BEGIN:VCALENDAR
VERSION:2.0
PRODID:-//Ville de Hudson - ECPv6.15.20//NONSGML v1.0//EN
CALSCALE:GREGORIAN
METHOD:PUBLISH
X-WR-CALNAME:Ville de Hudson
X-ORIGINAL-URL:https://hudson.quebec
X-WR-CALDESC:Évènements pour Ville de Hudson
REFRESH-INTERVAL;VALUE=DURATION:PT1H
X-Robots-Tag:noindex
X-PUBLISHED-TTL:PT1H
BEGIN:VTIMEZONE
TZID:America/Toronto
BEGIN:DAYLIGHT
TZOFFSETFROM:-0500
TZOFFSETTO:-0400
TZNAME:EDT
DTSTART:20250309T070000
END:DAYLIGHT
BEGIN:STANDARD
TZOFFSETFROM:-0400
TZOFFSETTO:-0500
TZNAME:EST
DTSTART:20251102T060000
END:STANDARD
BEGIN:DAYLIGHT
TZOFFSETFROM:-0500
TZOFFSETTO:-0400
TZNAME:EDT
DTSTART:20260308T070000
END:DAYLIGHT
BEGIN:STANDARD
TZOFFSETFROM:-0400
TZOFFSETTO:-0500
TZNAME:EST
DTSTART:20261101T060000
END:STANDARD
BEGIN:DAYLIGHT
TZOFFSETFROM:-0500
TZOFFSETTO:-0400
TZNAME:EDT
DTSTART:20270314T070000
END:DAYLIGHT
BEGIN:STANDARD
TZOFFSETFROM:-0400
TZOFFSETTO:-0500
TZNAME:EST
DTSTART:20271107T060000
END:STANDARD
END:VTIMEZONE
BEGIN:VEVENT
DTSTART;TZID=America/Toronto:20260301T130000
DTEND;TZID=America/Toronto:20260307T140000
DTSTAMP:20260422T082640
CREATED:20260219T224827Z
LAST-MODIFIED:20260219T224827Z
UID:63614-1772370000-1772892000@hudson.quebec
SUMMARY:Vente de livres de mars à la Bibliothèque War Memorial Library
DESCRIPTION:La vente de livres de mars débutera dimanche le 1er mars et se poursuivra le 2 et du 5 au 7 mars. \nHeures d’ouverture: \nDimanche : 13 h – 15 h (de septembre à juin)\nLundi : 14 h 30 – 17 h\nJeudi : 18 h – 20 h\nVendredi : 14 h 30 – 17 h\nSamedi : 10 h – 14 h \n60 rue Elm\, Hudson Heights QC J0P 1J0\n450-458-4814
URL:https://hudson.quebec/evenements/vente-de-livres-de-mars-a-la-bibliotheque-war-memorial-library-2/
LOCATION:Bibliothèque War Memorial Library\, 60\, rue Elm\, Hudson Heights\, Qc\, J0P 1J0\, Canada
CATEGORIES:Événements communautaires
ATTACH;FMTTYPE=image/jpeg:https://hudson.quebec/wp-content/uploads/2026/02/book-sale_Mar-2026_F_Town.jpg
END:VEVENT
BEGIN:VEVENT
DTSTART;TZID=America/Toronto:20260302T130000
DTEND;TZID=America/Toronto:20260302T143000
DTSTAMP:20260422T082640
CREATED:20260219T152126Z
LAST-MODIFIED:20260219T152126Z
UID:63484-1772456400-1772461800@hudson.quebec
SUMMARY:Sessions de jam pour jeunes
DESCRIPTION:Le 2\, 4 et 6 mars de 13 h à 14 h 30 \nJam avec d’autres jeunes musiciens ou mélomanes. Apportez vos instruments\, votre voix\, ou simplement votre énergie. Tous sont les bienvenues! Venez relaxer\, profiter et écouter. D’autres activités divertissantes \nÉglise St. James\, 642 rue Main\, Hudson \nEntrée: une denrée non périssable \nCollations & breuvages pour 2$ !
URL:https://hudson.quebec/evenements/sessions-de-jam-pour-jeunes/
LOCATION:Église Saint-James\, 642\, rue Main\, Hudson\, Québec\, J0P 1H0\, Canada
CATEGORIES:Événements communautaires
ATTACH;FMTTYPE=image/png:https://hudson.quebec/wp-content/uploads/2026/02/Sessions-de-Jam.png
END:VEVENT
BEGIN:VEVENT
DTSTART;TZID=America/Toronto:20260304T130000
DTEND;TZID=America/Toronto:20260304T143000
DTSTAMP:20260422T082640
CREATED:20260219T153008Z
LAST-MODIFIED:20260219T153256Z
UID:63495-1772629200-1772634600@hudson.quebec
SUMMARY:Sessions de jam pour jeunes
DESCRIPTION:Le 2\, 4 et 6 mars de 13 h à 14 h 30 \nJam avec d’autres jeunes musiciens ou mélomanes. Apportez vos instruments\, votre voix\, ou simplement votre énergie. Tous sont les bienvenues! Venez relaxer\, profiter et écouter. D’autres activités divertissantes \nÉglise St. James\, 642 rue Main\, Hudson \nEntrée: une denrée non périssable \nCollations & breuvages pour 2$ !
URL:https://hudson.quebec/evenements/sessions-de-jam-pour-jeunes-2/
LOCATION:Église Saint-James\, 642\, rue Main\, Hudson\, Québec\, J0P 1H0\, Canada
CATEGORIES:Événements communautaires
ATTACH;FMTTYPE=image/png:https://hudson.quebec/wp-content/uploads/2026/02/Sessions-de-Jam.png
END:VEVENT
BEGIN:VEVENT
DTSTART;TZID=America/Toronto:20260305T193000
DTEND;TZID=America/Toronto:20260315T160000
DTSTAMP:20260422T082640
CREATED:20260219T200748Z
LAST-MODIFIED:20260219T200748Z
UID:63589-1772739000-1773590400@hudson.quebec
SUMMARY:Pièce de théâtre « Head Over Heels »
DESCRIPTION:Célébration hilarante et exubérante de l’amour\, la nouvelle comédie musicale Head Over Heels suit les escapades d’une famille royale qui entreprend un voyage rocambolesque pour sauver son royaume bien-aimé de l’extinction\, avant de découvrir que la clé de la survie de leur royaume se trouve dans le cœur de chacun d’entre eux. \n5 au 15 mars 2026\, représentations (en anglais) en matinée et en soirée. \nHudson Village Theatre\, 28 rue Wharf\, Hudson \nBillets: 39$ \nBilletterie: 450-458-5361
URL:https://hudson.quebec/evenements/piece-de-theatre-head-over-heels/
LOCATION:Hudson Village Theatre\, 28 rue Wharf\, Hudson\, QC\, J0P 1H0\, Canada
CATEGORIES:Événements communautaires
ATTACH;FMTTYPE=image/jpeg:https://hudson.quebec/wp-content/uploads/2026/02/HOH-FI-FR-1200x628px.jpg
END:VEVENT
BEGIN:VEVENT
DTSTART;TZID=America/Toronto:20260306T130000
DTEND;TZID=America/Toronto:20260306T143000
DTSTAMP:20260422T082640
CREATED:20260219T153652Z
LAST-MODIFIED:20260219T153652Z
UID:63507-1772802000-1772807400@hudson.quebec
SUMMARY:Sessions de jam pour jeunes
DESCRIPTION:Le 2\, 4 et 6 mars de 13 h à 14 h 30 \nJam avec d’autres jeunes musiciens ou mélomanes. Apportez vos instruments\, votre voix\, ou simplement votre énergie. Tous sont les bienvenues! Venez relaxer\, profiter et écouter. D’autres activités divertissantes \nÉglise St. James\, 642 rue Main\, Hudson \nEntrée: une denrée non périssable \nCollations & breuvages pour 2$ !
URL:https://hudson.quebec/evenements/sessions-de-jam-pour-jeunes-3/
LOCATION:Église Saint-James\, 642\, rue Main\, Hudson\, Québec\, J0P 1H0\, Canada
CATEGORIES:Événements communautaires
ATTACH;FMTTYPE=image/png:https://hudson.quebec/wp-content/uploads/2026/02/Sessions-de-Jam.png
END:VEVENT
BEGIN:VEVENT
DTSTART;TZID=America/Toronto:20260307T100000
DTEND;TZID=America/Toronto:20260307T143000
DTSTAMP:20260422T082640
CREATED:20260123T192341Z
LAST-MODIFIED:20260123T192341Z
UID:63246-1772877600-1772893800@hudson.quebec
SUMMARY:Vente “Maman à Maman”
DESCRIPTION:Bonjour tout le monde ! \nJ’aimerais vous inviter à me joindre pour la toute première Vente “Maman à Maman” de la région. \nSamedi 7 mars 2026 \nCe sera notre toute première Vente Printemps – Maman à Maman\, et je suis ravie de l’offrir à notre communauté. \nCet événement\, porté par la communauté\, s’adresse aux mamans qui souhaitent vendre les articles de seconde main de leurs enfants dans un espace intérieur\, organisé\, chaleureux et accueillant… ainsi qu’aux mamans (et aux papas !) qui ont envie de magasiner des articles légèrement usagés de qualité directement auprès d’autres familles de la communauté. C’est véritablement une expérience Maman à Maman. \nLes ventes de garage ne garantissent pas toujours une bonne affluence\, et c’est justement ce qui fait de cet événement une si belle occasion de redonner vie à tous ces articles qui attendent à la maison. \nCet événement\, c’est bien plus que vendre : c’est rassembler les mamans et soutenir les familles locales. \n✨ 25 mamans vendeuses\n✨ Vêtements pour enfants et autres articles pour enfants\, légèrement usagés\nLieu : Centre Communautaire Stephen F. Shaar\, Hudson\, QC\n⏰ Heures de la vente : 10 h à 14 h 30 \n✨Tirage du panier-cadeau : un billet par achat + un par vendeur inscrit et plus encore… \nSi vous souhaitez participer en tant que vendeuse\, écrivez moi et je serai ravie de vous partager tous les détails. Si vous souhaitez simplement venir visiter\, notez la date à votre agenda — l’événement est confirmé et l’entrée est gratuite ! \nN’hésitez pas à me contacter pour plus de détails! \nCarla Vanesa Ruíz par message sur Facebook.com/HelloCarla.ca \nOu visitez directement la page Facebook de l’événement à l’adresse suivante: https://www.facebook.com/share/174Rg2NTFZ/ \nAu plaisir de vous voir sur place !
URL:https://hudson.quebec/evenements/vente-maman-a-maman/
LOCATION:Centre communautaire Stephen F. Shaar\, 394 rue Main\, Hudson\, QC\, J0P 1H0\, Canada
CATEGORIES:Événements communautaires
ATTACH;FMTTYPE=image/png:https://hudson.quebec/wp-content/uploads/2026/01/French-MTM.png
END:VEVENT
BEGIN:VEVENT
DTSTART;TZID=America/Toronto:20260308T100000
DTEND;TZID=America/Toronto:20260308T160000
DTSTAMP:20260422T082640
CREATED:20260213T193254Z
LAST-MODIFIED:20260213T193254Z
UID:63447-1772964000-1772985600@hudson.quebec
SUMMARY:Marché Mystique
DESCRIPTION:Entrez dans un espace calme et accueillant pour découvrir des outils dédiés à la réflexion\, au mieux-être et à l’équilibre intérieur lors de notre Marché mystique\, un rendez-vous d’une journée réunissant praticiens et artisans de la région. \nParcourez une sélection soigneusement choisie d’exposants proposant cristaux\, tirages de cartes de tarot et de l’oracle\, bain sonore\, naturopathie\, numérologie\, chandelles et autres créations artisanales conçues pour nourrir la pleine conscience\, la découverte de soi et le bien-être personnel. Que vous soyez déjà passionné ou simplement curieux de nouvelles approches\, ce marché vous invite à les explorer à votre rythme. \nLe Marché mystique est un espace de rencontre\, de curiosité et de bien-être — une invitation tout en douceur à faire une pause\, à poser des questions porteuses de sens et à découvrir des pratiques qui résonnent en vous. \nDimanche 8 mars\n10 h – 16 h \nCentre Créatif Hudson\n273\, rue Main
URL:https://hudson.quebec/evenements/marche-mystique/
LOCATION:Hudson Creative Hub créatif d’Hudson\, 273 rue Main\, Hudson\, J0P 1H0\, Canada
CATEGORIES:Événements communautaires
ATTACH;FMTTYPE=image/jpeg:https://hudson.quebec/wp-content/uploads/2026/02/Marche-mystique_mars_2026.jpg
END:VEVENT
BEGIN:VEVENT
DTSTART;TZID=America/Toronto:20260310T190000
DTEND;TZID=America/Toronto:20260310T203000
DTSTAMP:20260422T082640
CREATED:20260306T135457Z
LAST-MODIFIED:20260306T140015Z
UID:63728-1773169200-1773174600@hudson.quebec
SUMMARY:Les merveilles de l'érable - Le Collectif alimentaire de Hudson
DESCRIPTION:Les merveilles de l’érable –  Le Collectif alimentaire de Hudson \nJoignez-vous à nous pour une promenade à travers l’histoire\, l’importance culturelle\, les bienfaits pour la santé\, les méthodes de fabrication et\, bien sûr\, une dégustation des merveilles de l’érable.\nMardi 10 mars à 19 h\nEspace CAH : 473 Main\, Suite J\nComment nous trouver :\n– dans le bâtiment derrière Le Corbeau et le Renard (en direction du Hudson Village Theatre/de la gare d’Hudson)\n– en haut de l’escalier à gauche du Salon Véronique \nBillets
URL:https://hudson.quebec/evenements/les-merveilles-de-lerable-le-collectif-alimentaire-de-hudson/
CATEGORIES:Événements communautaires
ATTACH;FMTTYPE=image/jpeg:https://hudson.quebec/wp-content/uploads/2026/03/les-merveilles-de-lerable.jpg
END:VEVENT
BEGIN:VEVENT
DTSTART;TZID=America/Toronto:20260311T100000
DTEND;TZID=America/Toronto:20260311T110000
DTSTAMP:20260422T082640
CREATED:20260219T183658Z
LAST-MODIFIED:20260219T183658Z
UID:63564-1773223200-1773226800@hudson.quebec
SUMMARY:Le BINGO des aînés
DESCRIPTION:Nous vous invitons aux BINGO des aînés gratuits\, qui s’ajoutent à nos traditions mensuelles au centre communautaire et auront lieu chaque deuxième mercredi du mois\, de 10 h à 11 h. Une activité conviviale pour se rassembler\, jouer à un grand classique et passer un excellent moment ensemble. Les prix comprennent des cartes cadeaux chez des commerçants locaux\, une belle façon de soutenir les boutiques de la ville tout en s’amusant. \n 
URL:https://hudson.quebec/evenements/le-bingo-des-aines-2/
LOCATION:Centre communautaire Stephen F. Shaar\, 394 rue Main\, Hudson\, QC\, J0P 1H0\, Canada
CATEGORIES:Événements communautaires
ATTACH;FMTTYPE=image/png:https://hudson.quebec/wp-content/uploads/2026/02/Mar-Bingo_FR_1080x1080.png
END:VEVENT
BEGIN:VEVENT
DTSTART;TZID=America/Toronto:20260312T180000
DTEND;TZID=America/Toronto:20260312T193000
DTSTAMP:20260422T082640
CREATED:20260225T141922Z
LAST-MODIFIED:20260225T141922Z
UID:63649-1773338400-1773343800@hudson.quebec
SUMMARY:Soirées jeux de sociéte à la Bibliothèque War Memorial Library
DESCRIPTION:Pour tous les âges!  Bibliothèque War Memorial Library\, 60\, rue Elm.  Les jeudis\, 12 et 26 mars 2026\, de 18h00 à 19h30.  Gratuit pour les membres de la bibliothèque.  Non-membres : 10 $ par enfant\, 20 $ par adulte (argent comptant seulement).  Comprend une adhésion d’un an à la bibliothèque.  Les bases du jeu sont fournies. \n60 rue Elm\, Hudson Heights QC J0P 1J0\n450-458-4814
URL:https://hudson.quebec/evenements/soirees-jeux-de-societe-a-la-bibliotheque-war-memorial-library/
LOCATION:Bibliothèque War Memorial Library\, 60\, rue Elm\, Hudson Heights\, Qc\, J0P 1J0\, Canada
CATEGORIES:Événements communautaires
ATTACH;FMTTYPE=image/png:https://hudson.quebec/wp-content/uploads/2026/02/board-games_F_March-2026.png
END:VEVENT
BEGIN:VEVENT
DTSTART;TZID=America/Toronto:20260313T160000
DTEND;TZID=America/Toronto:20260313T220000
DTSTAMP:20260422T082640
CREATED:20260311T160004Z
LAST-MODIFIED:20260311T160004Z
UID:63813-1773417600-1773439200@hudson.quebec
SUMMARY:Soirées Ados
DESCRIPTION:Chaque soirée est gratuite et comprend une activité proposée. Si ce n’est pas votre truc\, pas de souci ! On peut toujours se retrouver au centre communautaire.  \nÂges 9 à 12 ans : 16 h à 19 h\nÂges 13+ : 19 h à 22 h
URL:https://hudson.quebec/evenements/soirees-ados-20/
LOCATION:Centre communautaire Stephen F. Shaar\, 394 rue Main\, Hudson\, QC\, J0P 1H0\, Canada
CATEGORIES:Événements communautaires
ATTACH;FMTTYPE=image/png:https://hudson.quebec/wp-content/uploads/2026/02/Mar-TEEN_FR_1080x1080.png
ORGANIZER;CN="Ville d'Hudson":MAILTO:info@ville.hudson.qc.ca
END:VEVENT
BEGIN:VEVENT
DTSTART;TZID=America/Toronto:20260319T100000
DTEND;TZID=America/Toronto:20260319T140000
DTSTAMP:20260422T082640
CREATED:20260219T202444Z
LAST-MODIFIED:20260303T130836Z
UID:63575-1773914400-1773928800@hudson.quebec
SUMMARY:Sortie des aînés à Sucrerie de la Montagne
DESCRIPTION:Merci de votre intérêt ! Cet événement affiche complet. \nLe jeudi 19 mars\, la Ville d’Hudson offre aux aînés une sortie à la Sucrerie de la Montagne\, de 10 h à 14 h. Venez profiter de la cuisine traditionnelle\, de la musique\, d’un cadre champêtre enchanteur et de la tire d’érable ! Veuillez noter que les places sont limitées — premier arrivé\, premier servi. Les billets coûtent 5 $ par personne. \nPour réserver votre place\, contactez :\n450-458-5347 *3704\nservice_loisirs@ville.hudson.qc.ca \n 
URL:https://hudson.quebec/evenements/sortie-des-aines-a-sucrerie-de-la-montagne/
LOCATION:Centre communautaire Stephen F. Shaar\, 394 rue Main\, Hudson\, QC\, J0P 1H0\, Canada
CATEGORIES:Événements communautaires
ATTACH;FMTTYPE=image/png:https://hudson.quebec/wp-content/uploads/2026/02/Outing_FR-11x8.5_rev2-1.png
END:VEVENT
BEGIN:VEVENT
DTSTART;TZID=America/Toronto:20260320T193000
DTEND;TZID=America/Toronto:20260320T220000
DTSTAMP:20260422T082640
CREATED:20260306T142935Z
LAST-MODIFIED:20260306T142935Z
UID:63745-1774035000-1774044000@hudson.quebec
SUMMARY:Music for the Church of the Wailing Banshees de Chris Crilly
DESCRIPTION:Music for the Church of the Wailing Banshees de Chris Crilly n’a rien du traditionnel « Irish pub » de votre père. Cette escapade « entre les jigs et les reels » est teintée de son héritage celtique\, mais aussi des musiques d’Afrique de l’Ouest et de ce qu’on appelait autrefois le « Moyen-Orient ». On y retrouve également des influences jazz\, baroques et de la tradition chorale anglaise qui ont marqué sa jeunesse — un concert qui vous fera fredonner les mélodies tout le long du chemin du retour. \nPour cette soirée au Hudson Village Theatre\, Chris sera accompagné de Greg Smith (guitare)\, Bill Gossage (basse) et Stuart Jackson (uilleann pipes et percussions). \nBillets : 28 $ (+ taxes et frais).
URL:https://hudson.quebec/evenements/music-for-the-church-of-the-wailing-banshees-de-chris-crilly/
LOCATION:Hudson Village Theatre\, 28 rue Wharf\, Hudson\, QC\, J0P 1H0\, Canada
CATEGORIES:Événements communautaires
ATTACH;FMTTYPE=image/jpeg:https://hudson.quebec/wp-content/uploads/2026/03/BANSHEE-FI-FR-1200x628px.jpg
END:VEVENT
BEGIN:VEVENT
DTSTART;TZID=America/Toronto:20260321T130000
DTEND;TZID=America/Toronto:20260321T160000
DTSTAMP:20260422T082640
CREATED:20260303T194647Z
LAST-MODIFIED:20260319T023204Z
UID:63719-1774098000-1774108800@hudson.quebec
SUMMARY:Parade de la Saint-Patrick 2026
DESCRIPTION:SAMEDI 21 MARS 2026. Tradition annuelle\, la parade de la Saint-Patrick revient en force cette année. La parade commence à 13 h le samedi 21 mars à l’école secondaire Westwood Senior\, se dirige vers le nord le long de la côte Saint-Charles\, tourne vers l’est sur la rue Main et continue le long de la rue Main pour se terminer au Centre communautaire. Des fermetures de rues et des restrictions de stationnement seront en vigueur. \nN’oublier pas la Fête familiale après la parade au Centre communautaire\, 394\, rue Main. \nSi vous envisagez d’assister à la parade\, prenez en considération l’horaire ci-dessous\, car les véhicules n’auront pas accès à la rue Main avant la fin de l’événement. Si vous prévoyez des visiteurs\, les en informer. \n\nLes services d’urgence auront accès à la rue en tout temps.\nPendant le défilé\, l’accès au MédiCentre se fera par l’itinéraire suivant : Lakeview\, puis Cedar en direction du nord et la rue Main en direction de l’est.\n\n \nFERMETURES DE RUES – SAMEDI 21 MARS 2026 \n\nLa côte Saint-Charles entre la rue Ridge et la rue Main\, de 10 h jusqu’à approximativement 15 h\,\nLa rue Main\, entre la côte Saint-Charles et la rue Beach\, de 12 h 30 jusqu’à approximativement 16 h\,\n\nFERMETURE DU STATIONNEMENT DU CENTRE COMMUNAUTAIRE \n\nLe stationnement du Centre communautaire\, du vendredi soir 20 mars\, jusqu’à environ 16 h le 21 mars.\n\nINTERDICTION DE STATIONNEMENT – 21 MARS 2026 \n\nLe stationnement est très limité dans le secteur situé entre les rues Main et Ridge. Il n’y a aucun stationnement autorisé le long de la déviation.\n\nService de navette gratuitLes navettes partent de Biggs (3100 Harwood)\, où le stationnement est abondant et gratuit\, ainsi que du Whitlock Golf Course (128 Côte St-Charles)\, où le stationnement est limité et se remplit rapidement. \n  \n 
URL:https://hudson.quebec/evenements/parade-de-la-saint-patrick-2026/
CATEGORIES:Événements communautaires
ATTACH;FMTTYPE=image/jpeg:https://hudson.quebec/wp-content/uploads/2025/02/St-Patricks-2025.jpg
END:VEVENT
BEGIN:VEVENT
DTSTART;TZID=America/Toronto:20260321T133000
DTEND;TZID=America/Toronto:20260321T163000
DTSTAMP:20260422T082640
CREATED:20260303T192606Z
LAST-MODIFIED:20260303T192606Z
UID:63708-1774099800-1774110600@hudson.quebec
SUMMARY:Fête familiale après le défilé! L'édition 2026
DESCRIPTION:Gratuit. De 13 h 30 à 16 h 30 le samedi 21 mars\, 2026. \nAprès le défilé\, soyez des nôtres à la fête familiale au centre communautaire (394 rue Main) pour: \n\nune photographie professionnelle gratuite avec la Reine\,\nbreuvages chauds et froids\,\ngâteries et\, bien sûr\,\nde la musique et de la danse irlandaise !\n\n  \n 
URL:https://hudson.quebec/evenements/fete-familiale-apres-le-defile-ledition-2026/
LOCATION:Centre communautaire Stephen F. Shaar\, 394 rue Main\, Hudson\, QC\, J0P 1H0\, Canada
CATEGORIES:Événements communautaires
ATTACH;FMTTYPE=image/png:https://hudson.quebec/wp-content/uploads/2026/03/Francais.png
ORGANIZER;CN="Ville d'Hudson":MAILTO:info@ville.hudson.qc.ca
END:VEVENT
BEGIN:VEVENT
DTSTART;TZID=America/Toronto:20260324T190000
DTEND;TZID=America/Toronto:20260324T213000
DTSTAMP:20260422T082640
CREATED:20260320T204711Z
LAST-MODIFIED:20260320T204711Z
UID:63934-1774378800-1774387800@hudson.quebec
SUMMARY:March 2026 Town Council Meeting
DESCRIPTION:We invite all residents to attend the monthly council meeting on Tuesday\, March 24 at 7 pm at the Stephen F. Shaar Community Centre\, 394 Main Road. \nYou can also participate on Zoom by clicking the link below. \nIf you can’t attend live\, you can watch the meeting on demand. The video recording will be available on the Thursday afternoon following the meeting. \nCLICK HERE to access the meeting agenda\, Zoom link\, and the procedure for asking questions of Council.
URL:https://hudson.quebec/evenements/march-2026-town-council-meeting/
CATEGORIES:Événements communautaires
ATTACH;FMTTYPE=image/png:https://hudson.quebec/wp-content/uploads/2026/03/March_2026_Eng@2x.png
END:VEVENT
BEGIN:VEVENT
DTSTART;TZID=America/Toronto:20260324T200000
DTEND;TZID=America/Toronto:20260324T223000
DTSTAMP:20260422T082640
CREATED:20260213T163327Z
LAST-MODIFIED:20260213T163327Z
UID:63429-1774382400-1774391400@hudson.quebec
SUMMARY:Projection de film : Walking Through the Fire
DESCRIPTION:Le Centre Créatif Hudson vous convie à une projection à ne pas manquer de Walking Through the Fire\, un album visuel et documentaire captivant qui explore la musique\, la collaboration et la réconciliation. Ce film est réalisé et produit par les Sultans of String\, artistes nommés aux JUNO Awards. \nChris McKhool\, réalisateur et producteur de Sultans of String\, débutera cette soirée unique par un mot d’ouverture suivi d’une séance de questions-réponses après la projection. \n24 mars | 20 h\nEntrée gratuite – les dons sont les bienvenus à la porte\nOuverture des portes à 19 h ; aucune place réservée\nInformations et réservation \nCentre Créatif Hudson\n273\, rue Main
URL:https://hudson.quebec/evenements/projection-de-film-walking-through-the-fire/
LOCATION:Hudson Creative Hub créatif d’Hudson\, 273 rue Main\, Hudson\, J0P 1H0\, Canada
CATEGORIES:Événements communautaires
ATTACH;FMTTYPE=image/png:https://hudson.quebec/wp-content/uploads/2026/02/Walking-Through-the-Fire.png
END:VEVENT
BEGIN:VEVENT
DTSTART;TZID=America/Toronto:20260325T100000
DTEND;TZID=America/Toronto:20260325T120000
DTSTAMP:20260422T082640
CREATED:20260219T181446Z
LAST-MODIFIED:20260219T181446Z
UID:63542-1774432800-1774440000@hudson.quebec
SUMMARY:Matinée cinéma pour aînés
DESCRIPTION:Nous vous invitons aux matinées cinéma pour les aînés gratuits\, qui auront lieu chaque quatrième mercredi du mois\, de 10 h à 12 h. \nLa Matinée cinéma pour aînés de ce mois-ci présente Miss Daisy Et Son Chauffeur (V.O.). Une belle occasion de profiter d’un bon film et de partager un moment convivial au centre communautaire. Passez nous voir le mardi ou le jeudi\, de 10 h à 12 h\, pour voter pour le film du mois prochain.
URL:https://hudson.quebec/evenements/matinee-cinema-pour-aines-3/
LOCATION:Centre communautaire Stephen F. Shaar\, 394 rue Main\, Hudson\, QC\, J0P 1H0\, Canada
CATEGORIES:Événements communautaires
ATTACH;FMTTYPE=image/png:https://hudson.quebec/wp-content/uploads/2026/02/Movie_ENG_1080x1080.png
END:VEVENT
BEGIN:VEVENT
DTSTART;TZID=America/Toronto:20260325T200000
DTEND;TZID=America/Toronto:20260325T220000
DTSTAMP:20260422T082640
CREATED:20260213T192622Z
LAST-MODIFIED:20260213T192622Z
UID:63438-1774468800-1774476000@hudson.quebec
SUMMARY:Sultans of String – En Concert
DESCRIPTION:Soyez des nôtres pour une soirée intime avec les Sultans of String\, l’un des groupes les plus célébrés et éclectiques du Canada\, dans un format duo unique au Centre Créatif Hudson. \nRéputés pour leur virtuosité éblouissante et leur sens profond de connexion musicale\, les Sultans of String mêlent folk\, roots\, flamenco et traditions du monde entier\, offrant des performances à la fois virtuoses et profondément humaines. Leur musique raconte des histoires de lieux\, de collaborations et l’art d’écouter au-delà des cultures. \nDans le cadre intimiste de la série «Listening Room»\, ce concert en format cabaret offre une occasion rare de vivre le duo de près\, dans un espace détendu propice à l’attention\, aux échanges et au partage. \nAttendez-vous à une soirée chaleureuse\, captivante et riche musicalement\, aussi séduisante pour les admirateurs de longue date que pour ceux qui découvriront le groupe pour la première fois. \n25 mars | 20 h\nBillets : 35 $\nOuverture des portes à 19 h ; aucune place réservée\nBillet \nCentre Créatif Hudson\n273\, rue Main
URL:https://hudson.quebec/evenements/sultans-of-string-en-concert/
LOCATION:Hudson Creative Hub créatif d’Hudson\, 273 rue Main\, Hudson\, J0P 1H0\, Canada
CATEGORIES:Événements communautaires
ATTACH;FMTTYPE=image/jpeg:https://hudson.quebec/wp-content/uploads/2026/02/Sultan-of-Strings.jpeg
END:VEVENT
BEGIN:VEVENT
DTSTART;TZID=America/Toronto:20260326T180000
DTEND;TZID=America/Toronto:20260326T193000
DTSTAMP:20260422T082640
CREATED:20260225T142745Z
LAST-MODIFIED:20260325T211400Z
UID:63660-1774548000-1774553400@hudson.quebec
SUMMARY:Soirées jeux de sociéte à la Bibliothèque War Memorial Library
DESCRIPTION:Pour tous les âges!  Bibliothèque War Memorial Library\, 60\, rue Elm.  Les jeudis\, 12 et 26 mars 2026\, de 18h00 à 19h30.  Gratuit pour les membres de la bibliothèque.  Non-membres : 10 $ par enfant\, 20 $ par adulte (argent comptant seulement).  Comprend une adhésion d’un an à la bibliothèque.  Les bases du jeu sont fournies. \n60 rue Elm\, Hudson Heights QC J0P 1J0\n450-458-4814
URL:https://hudson.quebec/evenements/soirees-jeux-de-societe-a-la-bibliotheque-war-memorial-library-2/
LOCATION:Bibliothèque War Memorial Library\, 60\, rue Elm\, Hudson Heights\, Qc\, J0P 1J0\, Canada
CATEGORIES:Événements communautaires
ATTACH;FMTTYPE=image/png:https://hudson.quebec/wp-content/uploads/2026/02/board-games_F_March-2026.png
END:VEVENT
BEGIN:VEVENT
DTSTART;TZID=America/Toronto:20260327T160000
DTEND;TZID=America/Toronto:20260327T220000
DTSTAMP:20260422T082640
CREATED:20260219T182655Z
LAST-MODIFIED:20260219T182655Z
UID:63553-1774627200-1774648800@hudson.quebec
SUMMARY:Soirées Ados
DESCRIPTION:Chaque soirée est gratuite et comprend une activité proposée. Si ce n’est pas votre truc\, pas de souci ! On peut toujours se retrouver au centre communautaire.  \nÂges 9 à 12 ans : 16 h à 19 h\n Âges 13+ : 19 h à 22 h
URL:https://hudson.quebec/evenements/soirees-ados-19/
LOCATION:Centre communautaire Stephen F. Shaar\, 394 rue Main\, Hudson\, QC\, J0P 1H0\, Canada
CATEGORIES:Événements communautaires
ATTACH;FMTTYPE=image/png:https://hudson.quebec/wp-content/uploads/2026/02/Mar-TEEN_FR_1080x1080.png
END:VEVENT
BEGIN:VEVENT
DTSTART;TZID=America/Toronto:20260328T100000
DTEND;TZID=America/Toronto:20260328T120000
DTSTAMP:20260422T082640
CREATED:20260320T195006Z
LAST-MODIFIED:20260320T195006Z
UID:63856-1774692000-1774699200@hudson.quebec
SUMMARY:Café avec la mairesse Hutchison
DESCRIPTION:L’édition du mois de mars 2026 du Café avec la Mairesse Hutchison aura lieu le samedi 28 mars de 10 h à midi à la maison Halcro\, située au 539 rue Main. Les résidents sont invités à discuter des sujets qui les préoccupent dans un contexte détendu et informel.
URL:https://hudson.quebec/evenements/cafe-avec-la-mairesse-hutchison-18/
LOCATION:Maison Halcro\, 539\, rue Main\, Hudson\, Qc\, J0P 1H0\, Canada
CATEGORIES:Événements communautaires
ATTACH;FMTTYPE=image/png:https://hudson.quebec/wp-content/uploads/2026/03/Coffee-with-the-Mayor_March-2026_fre@2x.png
END:VEVENT
BEGIN:VEVENT
DTSTART;TZID=America/Toronto:20260330T190000
DTEND;TZID=America/Toronto:20260330T210000
DTSTAMP:20260422T082640
CREATED:20260320T200151Z
LAST-MODIFIED:20260320T201642Z
UID:63871-1774897200-1774904400@hudson.quebec
SUMMARY:Réunion pour les résidents du district 2: le lundi 30 mars 2026
DESCRIPTION:Le conseiller Matthew Stenberg invite les résidents et les propriétaires d’entreprises du DISTRICT 2 – Hudson-est à se joindre à lui le ; \n\nLundi 30 mars 2026\,\nde 19 h à 21 h\,\nCentre communautaire Stephen F. Shaar (grande salle) 394 rue Main\, Hudson\nApporter vos idées\, suggestions\, et questions.\n\nVous n’êtes pas sûr(e) de votre district ? Consultez la carte des districts électoraux.
URL:https://hudson.quebec/evenements/reunion-pour-les-residents-du-district-2-le-lundi-30-mars-2026/
LOCATION:Centre communautaire Stephen F. Shaar\, 394 rue Main\, Hudson\, QC\, J0P 1H0\, Canada
CATEGORIES:Événements communautaires
ATTACH;FMTTYPE=image/jpeg:https://hudson.quebec/wp-content/uploads/2026/03/Matthew-Stenberg_D2-meeting_march-2026_fre.jpg
END:VEVENT
END:VCALENDAR