BEGIN:VCALENDAR
VERSION:2.0
PRODID:-//Ville de Hudson - ECPv6.15.20//NONSGML v1.0//EN
CALSCALE:GREGORIAN
METHOD:PUBLISH
X-WR-CALNAME:Ville de Hudson
X-ORIGINAL-URL:https://hudson.quebec
X-WR-CALDESC:Évènements pour Ville de Hudson
REFRESH-INTERVAL;VALUE=DURATION:PT1H
X-Robots-Tag:noindex
X-PUBLISHED-TTL:PT1H
BEGIN:VTIMEZONE
TZID:America/Toronto
BEGIN:DAYLIGHT
TZOFFSETFROM:-0500
TZOFFSETTO:-0400
TZNAME:EDT
DTSTART:20250309T070000
END:DAYLIGHT
BEGIN:STANDARD
TZOFFSETFROM:-0400
TZOFFSETTO:-0500
TZNAME:EST
DTSTART:20251102T060000
END:STANDARD
BEGIN:DAYLIGHT
TZOFFSETFROM:-0500
TZOFFSETTO:-0400
TZNAME:EDT
DTSTART:20260308T070000
END:DAYLIGHT
BEGIN:STANDARD
TZOFFSETFROM:-0400
TZOFFSETTO:-0500
TZNAME:EST
DTSTART:20261101T060000
END:STANDARD
BEGIN:DAYLIGHT
TZOFFSETFROM:-0500
TZOFFSETTO:-0400
TZNAME:EDT
DTSTART:20270314T070000
END:DAYLIGHT
BEGIN:STANDARD
TZOFFSETFROM:-0400
TZOFFSETTO:-0500
TZNAME:EST
DTSTART:20271107T060000
END:STANDARD
END:VTIMEZONE
BEGIN:VEVENT
DTSTART;TZID=America/Toronto:20260409T193000
DTEND;TZID=America/Toronto:20260419T170000
DTSTAMP:20260421T105652
CREATED:20260123T210824Z
LAST-MODIFIED:20260219T212747Z
UID:63261-1775763000-1776618000@hudson.quebec
SUMMARY:Pièce de théâtre « Almost\, Maine »
DESCRIPTION:Par une froide nuit d’hiver\, claire comme du cristal\, dans la ville mythique d’Almost\, au Maine\, les aurores boréales dansent au-dessus des habitants qui tombent en amour de la façon la plus inattendue. À travers neuf petites scènes\, des couples se trouvent\, se perdent\, et parfois foncent tête première dans la romance\, le chagrin et l’hilarité. Les genoux se maganent\, les cœurs se réparent\, et les émotions débordent dans cette comédie tendre et décalée. Almost\, Maine célèbre les bizarreries de l’amour\, nous rappelant que la connexion est magique — même quand elle semble presque impossible. Almost pourrait être n’importe quelle ville… même Hudson.  \n9 au 19 avril 2026\, représentations (en anglais) en matinée et en soirée.\nLes jeudis 9 & 16 avril: 19 h 30\nLes vendredis 10 & 17 avril: 19 h 30\nLes samedis 11 & 18 avril: 14 h et 19 h 30\nLes dimanches 12 & 19 avril: 14 h \nHudson Village Theatre\, 28 rue Wharf\, Hudson \nBillets: 39$ \nBilletterie: 450-458-5361
URL:https://hudson.quebec/evenements/piece-de-theatre-almost-maine/
LOCATION:Hudson Village Theatre\, 28 rue Wharf\, Hudson\, QC\, J0P 1H0\, Canada
CATEGORIES:Événements communautaires
ATTACH;FMTTYPE=image/jpeg:https://hudson.quebec/wp-content/uploads/2026/01/Almost-Maine-Facebook-Fre-scaled.jpg
END:VEVENT
BEGIN:VEVENT
DTSTART;TZID=America/Toronto:20260415T153000
DTEND;TZID=America/Toronto:20260415T170000
DTSTAMP:20260421T105652
CREATED:20260403T175250Z
LAST-MODIFIED:20260403T175250Z
UID:64219-1776267000-1776272400@hudson.quebec
SUMMARY:Mieux comprendre les premiers changements de mémoire
DESCRIPTION:Neurosciences du vieillissement – mémoire et notre cerveau \nAvez-vous\, ou vos proches\, souffert de problèmes de mémoire ? Êtes-vous intéressé à en apprendre davantage sur les recherches menées sur la mémoire et le cerveau vieillissant ? \nDes analystes de recherche du Centre de recherche de l’Institut universitaire de gériatrie de Montréal viennent à Hudson pour partager leurs recherches avec notre communauté\, présenter leurs nouvelles études et recruter des personnes intéressées à participer à l’une ou aux deux de leurs études. \nLes deux études portent sur des adultes en bonne santé âgés de 55 à 79 ans\, avec ou sans préoccupations concernant la mémoire\, en utilisant divers tests cognitifs pour mieux comprendre les changements précoces de la mémoire. \nLe groupe accueille également les points de vue des personnes ayant une expérience vécue de la démence\, ou de celles qui prennent soin d’une personne atteinte de démence\, et qui seraient intéressées à partager ces expériences au sein d’un comité spécialisé. \nMercredi 15 avril 2026\n15 h 30 – 17 h\nCentre communautaire\n394\, rue Main\, Hudson\, QC \nÉvénement gratuit \nDes rafraîchissements légers seront fournis par Grannies Aid for Africa\, Hudson. \nPour plus d’information\, contactez le 514-770-9997.
URL:https://hudson.quebec/evenements/mieux-comprendre-les-premiers-changements-de-memoire/
LOCATION:Centre communautaire Stephen F. Shaar\, 394 rue Main\, Hudson\, QC\, J0P 1H0\, Canada
CATEGORIES:Événements communautaires
ATTACH;FMTTYPE=image/jpeg:https://hudson.quebec/wp-content/uploads/2026/04/Poster-for-Aging-Brain-event_Fr.jpg
END:VEVENT
END:VCALENDAR