BEGIN:VCALENDAR
VERSION:2.0
PRODID:-//Ville de Hudson - ECPv6.15.20//NONSGML v1.0//EN
CALSCALE:GREGORIAN
METHOD:PUBLISH
X-WR-CALNAME:Ville de Hudson
X-ORIGINAL-URL:https://hudson.quebec
X-WR-CALDESC:Évènements pour Ville de Hudson
REFRESH-INTERVAL;VALUE=DURATION:PT1H
X-Robots-Tag:noindex
X-PUBLISHED-TTL:PT1H
BEGIN:VTIMEZONE
TZID:America/Toronto
BEGIN:DAYLIGHT
TZOFFSETFROM:-0500
TZOFFSETTO:-0400
TZNAME:EDT
DTSTART:20250309T070000
END:DAYLIGHT
BEGIN:STANDARD
TZOFFSETFROM:-0400
TZOFFSETTO:-0500
TZNAME:EST
DTSTART:20251102T060000
END:STANDARD
BEGIN:DAYLIGHT
TZOFFSETFROM:-0500
TZOFFSETTO:-0400
TZNAME:EDT
DTSTART:20260308T070000
END:DAYLIGHT
BEGIN:STANDARD
TZOFFSETFROM:-0400
TZOFFSETTO:-0500
TZNAME:EST
DTSTART:20261101T060000
END:STANDARD
BEGIN:DAYLIGHT
TZOFFSETFROM:-0500
TZOFFSETTO:-0400
TZNAME:EDT
DTSTART:20270314T070000
END:DAYLIGHT
BEGIN:STANDARD
TZOFFSETFROM:-0400
TZOFFSETTO:-0500
TZNAME:EST
DTSTART:20271107T060000
END:STANDARD
END:VTIMEZONE
BEGIN:VEVENT
DTSTART;TZID=America/Toronto:20260324T190000
DTEND;TZID=America/Toronto:20260324T213000
DTSTAMP:20260422T113330
CREATED:20260320T204711Z
LAST-MODIFIED:20260320T204711Z
UID:63934-1774378800-1774387800@hudson.quebec
SUMMARY:March 2026 Town Council Meeting
DESCRIPTION:We invite all residents to attend the monthly council meeting on Tuesday\, March 24 at 7 pm at the Stephen F. Shaar Community Centre\, 394 Main Road. \nYou can also participate on Zoom by clicking the link below. \nIf you can’t attend live\, you can watch the meeting on demand. The video recording will be available on the Thursday afternoon following the meeting. \nCLICK HERE to access the meeting agenda\, Zoom link\, and the procedure for asking questions of Council.
URL:https://hudson.quebec/evenements/march-2026-town-council-meeting/
CATEGORIES:Événements communautaires
ATTACH;FMTTYPE=image/png:https://hudson.quebec/wp-content/uploads/2026/03/March_2026_Eng@2x.png
END:VEVENT
BEGIN:VEVENT
DTSTART;TZID=America/Toronto:20260324T200000
DTEND;TZID=America/Toronto:20260324T223000
DTSTAMP:20260422T113330
CREATED:20260213T163327Z
LAST-MODIFIED:20260213T163327Z
UID:63429-1774382400-1774391400@hudson.quebec
SUMMARY:Projection de film : Walking Through the Fire
DESCRIPTION:Le Centre Créatif Hudson vous convie à une projection à ne pas manquer de Walking Through the Fire\, un album visuel et documentaire captivant qui explore la musique\, la collaboration et la réconciliation. Ce film est réalisé et produit par les Sultans of String\, artistes nommés aux JUNO Awards. \nChris McKhool\, réalisateur et producteur de Sultans of String\, débutera cette soirée unique par un mot d’ouverture suivi d’une séance de questions-réponses après la projection. \n24 mars | 20 h\nEntrée gratuite – les dons sont les bienvenus à la porte\nOuverture des portes à 19 h ; aucune place réservée\nInformations et réservation \nCentre Créatif Hudson\n273\, rue Main
URL:https://hudson.quebec/evenements/projection-de-film-walking-through-the-fire/
LOCATION:Hudson Creative Hub créatif d’Hudson\, 273 rue Main\, Hudson\, J0P 1H0\, Canada
CATEGORIES:Événements communautaires
ATTACH;FMTTYPE=image/png:https://hudson.quebec/wp-content/uploads/2026/02/Walking-Through-the-Fire.png
END:VEVENT
END:VCALENDAR