BEGIN:VCALENDAR
VERSION:2.0
PRODID:-//Town of Hudson - ECPv6.15.20//NONSGML v1.0//EN
CALSCALE:GREGORIAN
METHOD:PUBLISH
X-ORIGINAL-URL:https://hudson.quebec/en/
X-WR-CALDESC:Events for Town of Hudson
REFRESH-INTERVAL;VALUE=DURATION:PT1H
X-Robots-Tag:noindex
X-PUBLISHED-TTL:PT1H
BEGIN:VTIMEZONE
TZID:America/Toronto
BEGIN:DAYLIGHT
TZOFFSETFROM:-0500
TZOFFSETTO:-0400
TZNAME:EDT
DTSTART:20250309T070000
END:DAYLIGHT
BEGIN:STANDARD
TZOFFSETFROM:-0400
TZOFFSETTO:-0500
TZNAME:EST
DTSTART:20251102T060000
END:STANDARD
BEGIN:DAYLIGHT
TZOFFSETFROM:-0500
TZOFFSETTO:-0400
TZNAME:EDT
DTSTART:20260308T070000
END:DAYLIGHT
BEGIN:STANDARD
TZOFFSETFROM:-0400
TZOFFSETTO:-0500
TZNAME:EST
DTSTART:20261101T060000
END:STANDARD
BEGIN:DAYLIGHT
TZOFFSETFROM:-0500
TZOFFSETTO:-0400
TZNAME:EDT
DTSTART:20270314T070000
END:DAYLIGHT
BEGIN:STANDARD
TZOFFSETFROM:-0400
TZOFFSETTO:-0500
TZNAME:EST
DTSTART:20271107T060000
END:STANDARD
END:VTIMEZONE
BEGIN:VEVENT
DTSTART;VALUE=DATE:20260420
DTEND;VALUE=DATE:20260427
DTSTAMP:20260421T091049
CREATED:20260306T150945Z
LAST-MODIFIED:20260306T150945Z
UID:63772-1776643200-1777247999@hudson.quebec
SUMMARY:Hudson Film Festival 2026
DESCRIPTION:Hudson Film Festival 2026 \nWith modest beginnings\, and a local passion for film\, the Hudson Film Festival has attained an international reputation. It’s now known as The BIG little CANADIAN FILM FESTIVAL and the 2026 edition marks 12 years of giving our passionate Festival Experience lovers exciting programs of award winning Canadian films. Drama\, Comedy\, Thriller\, documentary\, short\, long\, French\, English – they are all there! And with a bonus of Film Art guests to discuss their work and answer questions. \nThe big new screen is at the Hudson Village Theatre\, a restored historic train station built in 1890. As the Town’s cultural center\, it is the perfect intimate venue for film. Over a century many notable inhabitants have walked upon the original floors of the Village Theatre\, setting the perfect mood to watch a good movie. \nTickets & more information
URL:https://hudson.quebec/en/evenements/hudson-film-festival-2026/
LOCATION:Hudson Village Theatre\, 28 Wharf Road\, Hudson\, QC\, J0P 1H0\, Canada
CATEGORIES:Community events
ATTACH;FMTTYPE=image/png:https://hudson.quebec/wp-content/uploads/2026/03/The-2026-Hudson-Film-Festival-April-20-26-.png
END:VEVENT
END:VCALENDAR