BEGIN:VCALENDAR
VERSION:2.0
PRODID:-//Town of Hudson - ECPv6.15.20//NONSGML v1.0//EN
CALSCALE:GREGORIAN
METHOD:PUBLISH
X-ORIGINAL-URL:https://hudson.quebec/en/
X-WR-CALDESC:Events for Town of Hudson
REFRESH-INTERVAL;VALUE=DURATION:PT1H
X-Robots-Tag:noindex
X-PUBLISHED-TTL:PT1H
BEGIN:VTIMEZONE
TZID:America/Toronto
BEGIN:DAYLIGHT
TZOFFSETFROM:-0500
TZOFFSETTO:-0400
TZNAME:EDT
DTSTART:20250309T070000
END:DAYLIGHT
BEGIN:STANDARD
TZOFFSETFROM:-0400
TZOFFSETTO:-0500
TZNAME:EST
DTSTART:20251102T060000
END:STANDARD
BEGIN:DAYLIGHT
TZOFFSETFROM:-0500
TZOFFSETTO:-0400
TZNAME:EDT
DTSTART:20260308T070000
END:DAYLIGHT
BEGIN:STANDARD
TZOFFSETFROM:-0400
TZOFFSETTO:-0500
TZNAME:EST
DTSTART:20261101T060000
END:STANDARD
BEGIN:DAYLIGHT
TZOFFSETFROM:-0500
TZOFFSETTO:-0400
TZNAME:EDT
DTSTART:20270314T070000
END:DAYLIGHT
BEGIN:STANDARD
TZOFFSETFROM:-0400
TZOFFSETTO:-0500
TZNAME:EST
DTSTART:20271107T060000
END:STANDARD
END:VTIMEZONE
BEGIN:VEVENT
DTSTART;TZID=America/Toronto:20260502T100000
DTEND;TZID=America/Toronto:20260502T140000
DTSTAMP:20260421T181630
CREATED:20260410T035505Z
LAST-MODIFIED:20260410T035505Z
UID:64254-1777716000-1777730400@hudson.quebec
SUMMARY:Le Nichoir’s World Migratory Bird Day
DESCRIPTION:Celebrate World Migratory Bird Day at Le Nichoir\nDate: Saturday\, May 2\, 2026\nTime: 10 a.m. to 2 p.m. \nCelebrate World Migratory Bird Day at Le Nichoir! \nJoin us on Saturday\, May 2\, 2026\, from 10 a.m. to 2 p.m. for a free\, family-friendly event celebrating wild birds and the role everyone can play in bird conservation. This year’s theme\, “Every Bird Counts – Your Observations Matter\,” highlights the importance of citizen science and how public observations help scientists monitor bird populations. \nVisitors can enjoy an open house at Le Nichoir\, guided birdwatching walks in the Clarke-Sydenham Nature Reserve\, and interactive educational activities for all ages. \nAdmission: Free — no tickets required
URL:https://hudson.quebec/en/evenements/le-nichoirs-world-migratory-bird-day/
LOCATION:Le Nichoir\, 637\, rue Main\, Hudson\, Québec\, J0P 1H0\, Canada
CATEGORIES:Community events
ATTACH;FMTTYPE=image/png:https://hudson.quebec/wp-content/uploads/2026/04/Nichoir-Journee-des-oiseaux-bi.png
END:VEVENT
BEGIN:VEVENT
DTSTART;TZID=America/Toronto:20260508T100000
DTEND;TZID=America/Toronto:20260508T113000
DTSTAMP:20260421T181630
CREATED:20260320T203312Z
LAST-MODIFIED:20260320T203312Z
UID:63914-1778234400-1778239800@hudson.quebec
SUMMARY:TAKING YOUR SPACE: A Workshop in Authenticity and Personal Ownership in Performance
DESCRIPTION:Taking Your Space:\nA Workshop in Authenticity and Personal Ownership in Performance with Sandra Bouza\nHudson Creative Hub\n273 Main Road \nFriday\, May 8 | 10 am\nA Pay-What-You-Can event \nTo keep this experience accessible to the community\, this workshop is offered on a pay-what-you-can basis. If you’re able to contribute more\, your support helps make creative opportunities like this possible for others. \nSpaces are limited to keep the experience intimate. \nRegistration : https://hudsoncreativehub.org/fr/event/taking-your-space-a-workshop-in-authenticity-and-personal-ownership-in-performance-with-sandra-bouza/ \nIn a world full of expectations—how we should act\, speak\, feel—it’s easy for our true artistic voice to get buried beneath layers of judgment and social conditioning. For musicians\, singers\, dancers\, and creatives of all kinds\, those invisible pressures can quietly limit how freely we express ourselves. \nTaking Your Space is an interactive workshop designed to help artists reconnect with their authentic voice and creative presence. \nLed by acclaimed singer-songwriter Sandra Bouza\, the session combines guided exercises and reflective practices that explore how we show up in performance. Participants will experiment with ways to release internalized expectations\, protect their emotional and creative space\, and step into their work with greater honesty\, confidence\, and ownership. \nRooted in the spirit of storytelling traditions and soulful performance\, this workshop invites you to reconnect with the part of your artistry that is real\, expressive\, and uniquely yours. \nThis is a supportive space where you are welcome to be too much\, too emotional\, too real—because powerful art comes from full connection to yourself. \nWhether you’re a seasoned performer or someone exploring your creative voice\, you’re invited to come curious\, open\, and ready to take up the space your art deserves. \nWho this workshop is for: \n\nMusicians and singers\nDancers and performers\nWriters\, storytellers\, and other creatives\nAnyone interested in authenticity and presence in creative work
URL:https://hudson.quebec/en/evenements/taking-your-space-a-workshop-in-authenticity-and-personal-ownership-in-performance/
LOCATION:Hudson Creative Hub créatif d’Hudson\, 273 rue Main\, Hudson\, J0P 1H0\, Canada
CATEGORIES:Community events
ATTACH;FMTTYPE=image/jpeg:https://hudson.quebec/wp-content/uploads/2026/03/Taking-place.jpg
END:VEVENT
BEGIN:VEVENT
DTSTART;TZID=America/Toronto:20260508T190000
DTEND;TZID=America/Toronto:20260508T220000
DTSTAMP:20260421T181630
CREATED:20260406T040416Z
LAST-MODIFIED:20260406T040416Z
UID:64240-1778266800-1778277600@hudson.quebec
SUMMARY:Parlez-moi : The Greenwood Singers Spring Concert
DESCRIPTION:Parlez-moi: The Greenwood Singers Spring Concert\nto benefit the Greenwood Centre for Living History \nMay 8\, 2026 at 7:00 pm\nSt. Mary’s Church\n261 Main Road\, Hudson\, QC \nTickets: $30 \nTickets available at:\nwww.greenwoodcentre.org\nQue de Bonnes Choses\n484-D Main Road\, Hudson
URL:https://hudson.quebec/en/evenements/parlez-moi-the-greenwood-singers-spring-concert/
LOCATION:Église Saint-Mary’s\, 261 rue Main\, Hudson\, Québec\, J0P 1H0\, Canada
CATEGORIES:Community events
ATTACH;FMTTYPE=image/png:https://hudson.quebec/wp-content/uploads/2026/04/2026-Spring-Concert-poster.png
END:VEVENT
BEGIN:VEVENT
DTSTART;TZID=America/Toronto:20260508T220000
DTEND;TZID=America/Toronto:20260508T220000
DTSTAMP:20260421T181630
CREATED:20260320T203848Z
LAST-MODIFIED:20260320T203848Z
UID:63923-1778277600-1778277600@hudson.quebec
SUMMARY:Sandra Bouza – In Concert
DESCRIPTION:Sandra Bouza – In Concert\nHudson Creative Hub\n273 Main Road \nFriday\, May 8 | 8 pm\nDoors open at 7 pm \nTickets: $35\nYouth tickets: $15\nFor children under 18 or post-secondary students (ID required)\nhttps://hudsoncreativehub.org/fr/event/sandra-bouza-live-in-concert/ \nAn intimate evening of blues\, soul\, and storytelling. \nSome artists entertain. Others stop you in your tracks. \nSandra Bouza is one of those rare voices that gets under your skin — the kind that quiets a room and holds it there. Rooted in folk storytelling and carried by a powerful blues-rock soul\, her songs are deeply human: raw\, honest\, and full of quiet fire. \nBouza’s voice moves effortlessly from smouldering restraint to full-bodied release\, drawing on the emotional depth of classic R&B and blues while remaining unmistakably her own. Critics have praised her command of the moment\, her emotional clarity\, and her ability to convey lived experience without artifice. This is music shaped by travel\, reflection\, resilience\, and hard-won self-knowledge. \nLive\, Sandra Bouza is magnetic. Whether backed by a groove or standing nearly alone with her guitar\, she invites listeners into songs that explore belonging\, recovery\, strength\, and transformation — not as abstract ideas\, but as stories you can feel in your bones. \nThis concert at the Hudson Creative Hub offers a rare chance to experience her in an intimate listening-room setting\, where every lyric lands and every nuance matters. If you love powerful voices\, great songwriting\, and performances that linger long after the last note fades\, this night is for you.
URL:https://hudson.quebec/en/evenements/sandra-bouza-in-concert/
LOCATION:Hudson Creative Hub créatif d’Hudson\, 273 rue Main\, Hudson\, J0P 1H0\, Canada
CATEGORIES:Community events
ATTACH;FMTTYPE=image/jpeg:https://hudson.quebec/wp-content/uploads/2026/03/Bouza-in-concert.jpg
END:VEVENT
BEGIN:VEVENT
DTSTART;TZID=America/Toronto:20260530T140000
DTEND;TZID=America/Toronto:20260530T170000
DTSTAMP:20260421T181630
CREATED:20260402T162032Z
LAST-MODIFIED:20260402T164425Z
UID:64174-1780149600-1780160400@hudson.quebec
SUMMARY:Songwriter Spotlight Series - Women In Music
DESCRIPTION:Songwriter Spotlight Series – Women in Music \nHudson Creative Hub\n273 Main Road\, Hudson\n2 pm \nMay 30\, 2026 – Women in Music\nFeaturing Laura Newman\, Jennifer Dahl\, Josée Brault\, Sandra Giguère\, Ishana Rahim\, Briana Doyle\, Lisa Mahabir\, Rachel Dara\, and Karen Myatt. \nTickets by donation.\nAll proceeds from this series will benefit the Hudson Creative Hub. \nOur Songwriter Spotlight concert series\, hosted by Briana Doyle and Seiji Gutierrez\, celebrates the depth\, diversity\, and heart of our local songwriting community. \nInspired by the classic Nashville-style song circle\, this intimate concert brings diverse groups of local songwriters together on stage\, taking turns performing their original songs. Some will play solo\, while others may accompany one another—creating a collaborative\, in-the-round experience where the songs (and the stories behind them) take centre stage. \nPlease note these are matinee shows: doors open at 1 pm\, show at 2 pm. \nRESERVE YOUR PLACE:https://hudsoncreativehub.org/event/songwriters-spotlight-women-in-music/
URL:https://hudson.quebec/en/evenements/songwriter-spotlight-series-women-in-music/
LOCATION:Hudson Creative Hub créatif d’Hudson\, 273 rue Main\, Hudson\, J0P 1H0\, Canada
CATEGORIES:Community events
ATTACH;FMTTYPE=image/png:https://hudson.quebec/wp-content/uploads/2026/04/Songwriter-Spotlight-EN.png
END:VEVENT
END:VCALENDAR