BEGIN:VCALENDAR
VERSION:2.0
PRODID:-//Town of Hudson - ECPv6.15.20//NONSGML v1.0//EN
CALSCALE:GREGORIAN
METHOD:PUBLISH
X-ORIGINAL-URL:https://hudson.quebec/en/
X-WR-CALDESC:Events for Town of Hudson
REFRESH-INTERVAL;VALUE=DURATION:PT1H
X-Robots-Tag:noindex
X-PUBLISHED-TTL:PT1H
BEGIN:VTIMEZONE
TZID:America/Toronto
BEGIN:DAYLIGHT
TZOFFSETFROM:-0500
TZOFFSETTO:-0400
TZNAME:EDT
DTSTART:20250309T070000
END:DAYLIGHT
BEGIN:STANDARD
TZOFFSETFROM:-0400
TZOFFSETTO:-0500
TZNAME:EST
DTSTART:20251102T060000
END:STANDARD
BEGIN:DAYLIGHT
TZOFFSETFROM:-0500
TZOFFSETTO:-0400
TZNAME:EDT
DTSTART:20260308T070000
END:DAYLIGHT
BEGIN:STANDARD
TZOFFSETFROM:-0400
TZOFFSETTO:-0500
TZNAME:EST
DTSTART:20261101T060000
END:STANDARD
BEGIN:DAYLIGHT
TZOFFSETFROM:-0500
TZOFFSETTO:-0400
TZNAME:EDT
DTSTART:20270314T070000
END:DAYLIGHT
BEGIN:STANDARD
TZOFFSETFROM:-0400
TZOFFSETTO:-0500
TZNAME:EST
DTSTART:20271107T060000
END:STANDARD
END:VTIMEZONE
BEGIN:VEVENT
DTSTART;TZID=America/Toronto:20260325T100000
DTEND;TZID=America/Toronto:20260325T120000
DTSTAMP:20260423T044900
CREATED:20260219T181516Z
LAST-MODIFIED:20260219T181742Z
UID:63550-1774432800-1774440000@hudson.quebec
SUMMARY:Movie Mornings for Seniors
DESCRIPTION:We invite you to our free Seniors Movie Mornings\, held on the fourth Wednesday of each month from 10:00 a.m. to 12:00 p.m. \nOur Senior Movie Morning this month features Driving Miss Daisy. It’s a simple\, welcoming way to enjoy a great film and spend time together at the Community Centre. Drop in on Tuesdays and Thursdays\, from 10 am to noon\, to cast your vote for next month’s movie.
URL:https://hudson.quebec/en/evenements/movie-mornings-for-seniors/
LOCATION:Stephen F. Shaar Community Centre\, 394 Main Road\, Hudson\, QC\, J0P 1H0\, Canada
CATEGORIES:Community events
ATTACH;FMTTYPE=image/png:https://hudson.quebec/wp-content/uploads/2026/02/Movie_FR_1080x1080.png
END:VEVENT
BEGIN:VEVENT
DTSTART;TZID=America/Toronto:20260325T200000
DTEND;TZID=America/Toronto:20260325T220000
DTSTAMP:20260423T044900
CREATED:20260213T192635Z
LAST-MODIFIED:20260213T192635Z
UID:63444-1774468800-1774476000@hudson.quebec
SUMMARY:Sultans of String – Live in Concert
DESCRIPTION:Join us for an intimate evening with Sultans of String\, one of Canada’s most celebrated and boundary-crossing musical groups\, presented in a special duo format at the Hudson Creative Hub. \nKnown for their dazzling musicianship and deep sense of musical connection\, Sultans of String blend elements of folk\, roots\, flamenco\, and global traditions into performances that are both virtuosic and deeply human. Their music tells stories — of place\, of collaboration\, and of the power of listening across cultures. \nThis cabaret-style Listening Room concert offers a rare chance to experience the duo up close\, in a relaxed setting that invites attention\, conversation\, and shared experience. Expect an evening that is warm\, engaging\, and musically rich — equally compelling for longtime fans and those discovering the band for the first time. \nMarch 25 | 8 pm\nTickets: $35\nDoors open at 7 pm – General admission\nTickets \nHudson Creative Hub\n273 Main Road
URL:https://hudson.quebec/en/evenements/sultans-of-string-live-in-concert/
LOCATION:Hudson Creative Hub créatif d’Hudson\, 273 rue Main\, Hudson\, J0P 1H0\, Canada
CATEGORIES:Community events
ATTACH;FMTTYPE=image/jpeg:https://hudson.quebec/wp-content/uploads/2026/02/Sultan-of-Strings.jpeg
END:VEVENT
END:VCALENDAR