BEGIN:VCALENDAR
VERSION:2.0
PRODID:-//Town of Hudson - ECPv6.15.20//NONSGML v1.0//EN
CALSCALE:GREGORIAN
METHOD:PUBLISH
X-ORIGINAL-URL:https://hudson.quebec/en/
X-WR-CALDESC:Events for Town of Hudson
REFRESH-INTERVAL;VALUE=DURATION:PT1H
X-Robots-Tag:noindex
X-PUBLISHED-TTL:PT1H
BEGIN:VTIMEZONE
TZID:America/Toronto
BEGIN:DAYLIGHT
TZOFFSETFROM:-0500
TZOFFSETTO:-0400
TZNAME:EDT
DTSTART:20250309T070000
END:DAYLIGHT
BEGIN:STANDARD
TZOFFSETFROM:-0400
TZOFFSETTO:-0500
TZNAME:EST
DTSTART:20251102T060000
END:STANDARD
BEGIN:DAYLIGHT
TZOFFSETFROM:-0500
TZOFFSETTO:-0400
TZNAME:EDT
DTSTART:20260308T070000
END:DAYLIGHT
BEGIN:STANDARD
TZOFFSETFROM:-0400
TZOFFSETTO:-0500
TZNAME:EST
DTSTART:20261101T060000
END:STANDARD
BEGIN:DAYLIGHT
TZOFFSETFROM:-0500
TZOFFSETTO:-0400
TZNAME:EDT
DTSTART:20270314T070000
END:DAYLIGHT
BEGIN:STANDARD
TZOFFSETFROM:-0400
TZOFFSETTO:-0500
TZNAME:EST
DTSTART:20271107T060000
END:STANDARD
END:VTIMEZONE
BEGIN:VEVENT
DTSTART;TZID=America/Toronto:20260322T150000
DTEND;TZID=America/Toronto:20260322T180000
DTSTAMP:20260423T055700
CREATED:20260306T144201Z
LAST-MODIFIED:20260306T144201Z
UID:63760-1774191600-1774202400@hudson.quebec
SUMMARY:G. Scott MacLeod In Conversation with Clint Ward
DESCRIPTION:On Sunday\, March 22nd\, join Clint Ward in conversation with critically acclaimed painter\, photographer\, musician\, filmmaker\, scriptwriter and graphic novelist\, G. Scott Macleod. \nScott will be talking about his new book\, Human Rights in the Rhythm of Rock Protest Music of the 1980s and 1990s. This book of photos and stories focuses on the Human Rights Now! concert in 1988\, a six week tour that raised awareness for the 40th anniversary of the Universal Declaration of Human Rights & Amnesty International’s work in social justice. \nPlease note: There will also be a Q&A session with the audience \nTickets: $15 (plus tax et fees)
URL:https://hudson.quebec/en/evenements/g-scott-macleod-in-conversation-with-clint-ward/
LOCATION:Hudson Village Theatre\, 28 Wharf Road\, Hudson\, QC\, J0P 1H0\, Canada
CATEGORIES:Community events
ATTACH;FMTTYPE=image/jpeg:https://hudson.quebec/wp-content/uploads/2026/03/In-Conversation-with-Clint-Ward-and-G-Scott-MacLeod-Sunday-March-22-3pm.jpg
END:VEVENT
END:VCALENDAR