BEGIN:VCALENDAR
VERSION:2.0
PRODID:-//Town of Hudson - ECPv6.15.20//NONSGML v1.0//EN
CALSCALE:GREGORIAN
METHOD:PUBLISH
X-WR-CALNAME:Town of Hudson
X-ORIGINAL-URL:https://hudson.quebec/en/
X-WR-CALDESC:Events for Town of Hudson
REFRESH-INTERVAL;VALUE=DURATION:PT1H
X-Robots-Tag:noindex
X-PUBLISHED-TTL:PT1H
BEGIN:VTIMEZONE
TZID:America/Toronto
BEGIN:DAYLIGHT
TZOFFSETFROM:-0500
TZOFFSETTO:-0400
TZNAME:EDT
DTSTART:20250309T070000
END:DAYLIGHT
BEGIN:STANDARD
TZOFFSETFROM:-0400
TZOFFSETTO:-0500
TZNAME:EST
DTSTART:20251102T060000
END:STANDARD
BEGIN:DAYLIGHT
TZOFFSETFROM:-0500
TZOFFSETTO:-0400
TZNAME:EDT
DTSTART:20260308T070000
END:DAYLIGHT
BEGIN:STANDARD
TZOFFSETFROM:-0400
TZOFFSETTO:-0500
TZNAME:EST
DTSTART:20261101T060000
END:STANDARD
BEGIN:DAYLIGHT
TZOFFSETFROM:-0500
TZOFFSETTO:-0400
TZNAME:EDT
DTSTART:20270314T070000
END:DAYLIGHT
BEGIN:STANDARD
TZOFFSETFROM:-0400
TZOFFSETTO:-0500
TZNAME:EST
DTSTART:20271107T060000
END:STANDARD
END:VTIMEZONE
BEGIN:VEVENT
DTSTART;TZID=America/Toronto:20260320T193000
DTEND;TZID=America/Toronto:20260320T220000
DTSTAMP:20260421T175009
CREATED:20260306T142956Z
LAST-MODIFIED:20260306T142956Z
UID:63751-1774035000-1774044000@hudson.quebec
SUMMARY:Chris Crilly's Music for the Church of the Wailing Banshees
DESCRIPTION:Chris Crilly’s Music for the Church of the Wailing Banshees is not your father’s pub Irish. This jaunt “between the jigs and the reels” is tinted by Chris’s background not only in Celtic music\, but by his childhood exposure to the music of West Africa and what we used to refer to as the “Middle East”. For this Hudson Village Theatre concert\, Chris is delighted to be in the company of: Greg Smith (guitar)\, Bill Gossage (bass) and Stuart Jackson (Uilleann pipes and percussion). \nTickets : 28 $ (+ tax & service fees).
URL:https://hudson.quebec/en/evenements/chris-crillys-music-for-the-church-of-the-wailing-banshees/
LOCATION:Hudson Village Theatre\, 28 Wharf Road\, Hudson\, QC\, J0P 1H0\, Canada
CATEGORIES:Community events
ATTACH;FMTTYPE=image/jpeg:https://hudson.quebec/wp-content/uploads/2026/03/BANSHEE-FI-1200x628px.jpg
END:VEVENT
END:VCALENDAR