BEGIN:VCALENDAR
VERSION:2.0
PRODID:-//Town of Hudson - ECPv6.15.20//NONSGML v1.0//EN
CALSCALE:GREGORIAN
METHOD:PUBLISH
X-WR-CALNAME:Town of Hudson
X-ORIGINAL-URL:https://hudson.quebec/en/
X-WR-CALDESC:Events for Town of Hudson
REFRESH-INTERVAL;VALUE=DURATION:PT1H
X-Robots-Tag:noindex
X-PUBLISHED-TTL:PT1H
BEGIN:VTIMEZONE
TZID:America/Toronto
BEGIN:DAYLIGHT
TZOFFSETFROM:-0500
TZOFFSETTO:-0400
TZNAME:EDT
DTSTART:20250309T070000
END:DAYLIGHT
BEGIN:STANDARD
TZOFFSETFROM:-0400
TZOFFSETTO:-0500
TZNAME:EST
DTSTART:20251102T060000
END:STANDARD
BEGIN:DAYLIGHT
TZOFFSETFROM:-0500
TZOFFSETTO:-0400
TZNAME:EDT
DTSTART:20260308T070000
END:DAYLIGHT
BEGIN:STANDARD
TZOFFSETFROM:-0400
TZOFFSETTO:-0500
TZNAME:EST
DTSTART:20261101T060000
END:STANDARD
BEGIN:DAYLIGHT
TZOFFSETFROM:-0500
TZOFFSETTO:-0400
TZNAME:EDT
DTSTART:20270314T070000
END:DAYLIGHT
BEGIN:STANDARD
TZOFFSETFROM:-0400
TZOFFSETTO:-0500
TZNAME:EST
DTSTART:20271107T060000
END:STANDARD
END:VTIMEZONE
BEGIN:VEVENT
DTSTART;TZID=America/Toronto:20260319T100000
DTEND;TZID=America/Toronto:20260319T140000
DTSTAMP:20260421T125807
CREATED:20260219T202458Z
LAST-MODIFIED:20260303T130653Z
UID:63605-1773914400-1773928800@hudson.quebec
SUMMARY:Seniors Trip to Sucrerie de la Montagne
DESCRIPTION:Thank you for your interest! This event is sold out. \nOn Thursday\, March 19 the Town of Hudson is offering seniors a trip to Sucrerie de la Montagne from 10 am to 2 pm. Enjoy traditional cuisine\, music\, fresh air and tire d’erables! Please note that there is limited seating\, first come\, first served! Tickets are $5 per person. \nTo reserve your spot\, contact:\n450-458-5347 *3704\nservice_loisirs@ville.hudson.qc.ca
URL:https://hudson.quebec/en/evenements/seniors-trip-to-sucrerie-de-la-montagne/
LOCATION:Stephen F. Shaar Community Centre\, 394 Main Road\, Hudson\, QC\, J0P 1H0\, Canada
CATEGORIES:Community events
ATTACH;FMTTYPE=image/png:https://hudson.quebec/wp-content/uploads/2026/02/Outing_ENG-11x8.5_rev2.png
END:VEVENT
END:VCALENDAR