BEGIN:VCALENDAR
VERSION:2.0
PRODID:-//Town of Hudson - ECPv6.15.20//NONSGML v1.0//EN
CALSCALE:GREGORIAN
METHOD:PUBLISH
X-WR-CALNAME:Town of Hudson
X-ORIGINAL-URL:https://hudson.quebec/en/
X-WR-CALDESC:Events for Town of Hudson
REFRESH-INTERVAL;VALUE=DURATION:PT1H
X-Robots-Tag:noindex
X-PUBLISHED-TTL:PT1H
BEGIN:VTIMEZONE
TZID:America/Toronto
BEGIN:DAYLIGHT
TZOFFSETFROM:-0500
TZOFFSETTO:-0400
TZNAME:EDT
DTSTART:20250309T070000
END:DAYLIGHT
BEGIN:STANDARD
TZOFFSETFROM:-0400
TZOFFSETTO:-0500
TZNAME:EST
DTSTART:20251102T060000
END:STANDARD
BEGIN:DAYLIGHT
TZOFFSETFROM:-0500
TZOFFSETTO:-0400
TZNAME:EDT
DTSTART:20260308T070000
END:DAYLIGHT
BEGIN:STANDARD
TZOFFSETFROM:-0400
TZOFFSETTO:-0500
TZNAME:EST
DTSTART:20261101T060000
END:STANDARD
BEGIN:DAYLIGHT
TZOFFSETFROM:-0500
TZOFFSETTO:-0400
TZNAME:EDT
DTSTART:20270314T070000
END:DAYLIGHT
BEGIN:STANDARD
TZOFFSETFROM:-0400
TZOFFSETTO:-0500
TZNAME:EST
DTSTART:20271107T060000
END:STANDARD
END:VTIMEZONE
BEGIN:VEVENT
DTSTART;TZID=America/Toronto:20260204T140000
DTEND;TZID=America/Toronto:20260215T163000
DTSTAMP:20260425T062449
CREATED:20251024T165120Z
LAST-MODIFIED:20251110T144038Z
UID:62274-1770213600-1771173000@hudson.quebec
SUMMARY:Theatrical production of God of Carnage
DESCRIPTION:When two sets of parents meet to discuss a playground altercation between their eleven-year-old sons\, civility quickly becomes the first casualty. \nYasmina Reza’s incisive comedy watches these four educated\, affluent adults—armed with good intentions and liberal values—systematically dismantle each other and themselves. \nAs carefully maintained façades crumble and alliances shift\, the play exposes the thin line between sophistication and savagery\, asking uncomfortable questions about the myths we construct around parenthood\, marriage\, class\, and our supposed evolution beyond our baser natures. \nFebruary 4 to 15\, 2026\, matinées and evenings. \nHudson Village Theatre\, 28 Wharf\, Hudson \nTickets: 39$ \nTicket office: 450-458-5361
URL:https://hudson.quebec/en/evenements/theatrical-production-of-god-of-carnage/
LOCATION:Hudson Village Theatre\, 28 Wharf Road\, Hudson\, QC\, J0P 1H0\, Canada
CATEGORIES:Community events
ATTACH;FMTTYPE=image/jpeg:https://hudson.quebec/wp-content/uploads/2025/10/GOC-FI-1200x628px.jpg
END:VEVENT
BEGIN:VEVENT
DTSTART;TZID=America/Toronto:20260212T180000
DTEND;TZID=America/Toronto:20260212T193000
DTSTAMP:20260425T062449
CREATED:20260130T164254Z
LAST-MODIFIED:20260130T164254Z
UID:63331-1770919200-1770924600@hudson.quebec
SUMMARY:Board Game Nights
DESCRIPTION:For all ages! \nWar Memorial Library\, 60 Elm. \nThursdays\, February 12 and 26\, 2026\, from 6 pm to 7:30 pm \nFree for members of the library. Non members: $10 per child\, $20 per adult (cash payment only). Includes a one-year membership to the library.
URL:https://hudson.quebec/en/evenements/board-game-nights-2/
LOCATION:Bibliothèque War Memorial Library\, 60\, rue Elm\, Hudson Heights\, Qc\, J0P 1J0\, Canada
CATEGORIES:Community events
ATTACH;FMTTYPE=image/png:https://hudson.quebec/wp-content/uploads/2026/01/Board-games_F_Feb.png
END:VEVENT
END:VCALENDAR