BEGIN:VCALENDAR
VERSION:2.0
PRODID:-//Town of Hudson - ECPv6.15.20//NONSGML v1.0//EN
CALSCALE:GREGORIAN
METHOD:PUBLISH
X-ORIGINAL-URL:https://hudson.quebec/en/
X-WR-CALDESC:Events for Town of Hudson
REFRESH-INTERVAL;VALUE=DURATION:PT1H
X-Robots-Tag:noindex
X-PUBLISHED-TTL:PT1H
BEGIN:VTIMEZONE
TZID:America/Toronto
BEGIN:DAYLIGHT
TZOFFSETFROM:-0500
TZOFFSETTO:-0400
TZNAME:EDT
DTSTART:20240310T070000
END:DAYLIGHT
BEGIN:STANDARD
TZOFFSETFROM:-0400
TZOFFSETTO:-0500
TZNAME:EST
DTSTART:20241103T060000
END:STANDARD
BEGIN:DAYLIGHT
TZOFFSETFROM:-0500
TZOFFSETTO:-0400
TZNAME:EDT
DTSTART:20250309T070000
END:DAYLIGHT
BEGIN:STANDARD
TZOFFSETFROM:-0400
TZOFFSETTO:-0500
TZNAME:EST
DTSTART:20251102T060000
END:STANDARD
BEGIN:DAYLIGHT
TZOFFSETFROM:-0500
TZOFFSETTO:-0400
TZNAME:EDT
DTSTART:20260308T070000
END:DAYLIGHT
BEGIN:STANDARD
TZOFFSETFROM:-0400
TZOFFSETTO:-0500
TZNAME:EST
DTSTART:20261101T060000
END:STANDARD
BEGIN:DAYLIGHT
TZOFFSETFROM:-0500
TZOFFSETTO:-0400
TZNAME:EDT
DTSTART:20270314T070000
END:DAYLIGHT
BEGIN:STANDARD
TZOFFSETFROM:-0400
TZOFFSETTO:-0500
TZNAME:EST
DTSTART:20271107T060000
END:STANDARD
END:VTIMEZONE
BEGIN:VEVENT
DTSTART;TZID=America/Toronto:20251212T190000
DTEND;TZID=America/Toronto:20260104T170000
DTSTAMP:20260423T121455
CREATED:20251024T164223Z
LAST-MODIFIED:20251110T144305Z
UID:62267-1765566000-1767546000@hudson.quebec
SUMMARY:The Holiday Panto : Peter Pan
DESCRIPTION:Join us for Peter Pan by Tom Whalley\, co-directed by Steve Walters and Jean-Frédéric Samson. \nPanto is the perfect holiday outing\, filled with singing\, dancing\, silly jokes\, goodies\, baddies\, and loads of fun for the whole family! \nFor over twenty years\, we’ve delighted children and adults alike with what has become an annual tradition and a fundraiser for the theatre. \nThe show runs throughout the holiday season\, from December 12 to January 4 (matinee and evening performances). \nTickets $30\nBox office: 450-458-5361 \nHudson Village Theatre\, 28 Wharf\, Hudson \n 
URL:https://hudson.quebec/en/evenements/the-holiday-panto-peter-pan/
LOCATION:Hudson Village Theatre\, 28 Wharf Road\, Hudson\, QC\, J0P 1H0\, Canada
CATEGORIES:Community events
ATTACH;FMTTYPE=image/jpeg:https://hudson.quebec/wp-content/uploads/2025/10/PPP-FI-1200x628px.jpg
END:VEVENT
BEGIN:VEVENT
DTSTART;TZID=America/Toronto:20260104T130000
DTEND;TZID=America/Toronto:20260110T140000
DTSTAMP:20260423T121455
CREATED:20251230T180227Z
LAST-MODIFIED:20251230T180227Z
UID:62992-1767531600-1768053600@hudson.quebec
SUMMARY:January book sale at the War Memorial Library
DESCRIPTION:The January Book Sale will begin on Sunday\, January 4th\, and continue January 5th and 8th to 10th.  \nOpening hours: \nSunday: 1 pm – 3 pm (September to June)\nMonday: 2:30 pm – 5 pm\nThursday: 6 pm – 8 pm\nFriday: 2:30 pm – 5 pm\nSaturday: 10 am – 2 pm \n60 Elm\, Hudson Heights QC J0P 1J0\n450-458-4814
URL:https://hudson.quebec/en/evenements/january-book-sale-at-the-war-memorial-library-2/
LOCATION:Bibliothèque War Memorial Library\, 60\, rue Elm\, Hudson Heights\, Qc\, J0P 1J0\, Canada
CATEGORIES:Community events
ATTACH;FMTTYPE=image/jpeg:https://hudson.quebec/wp-content/uploads/2025/12/book-sale_Jan-2026_B_Town.jpg
END:VEVENT
BEGIN:VEVENT
DTSTART;TZID=America/Toronto:20260104T150000
DTEND;TZID=America/Toronto:20260104T170000
DTSTAMP:20260423T121455
CREATED:20251219T164509Z
LAST-MODIFIED:20251219T165621Z
UID:62925-1767538800-1767546000@hudson.quebec
SUMMARY:St James' Open House and Tour
DESCRIPTION:January 4\, 2026 @ 3:00-5:00 p.m.\nST JAMES’ OPEN HOUSE AND TOUR\nJoin us January 4\, 2026 to meet and greet your friends and neighbours. Come raise a glass\, have a bite and hear the latest news about the work that’s planned for the rebuild of St. James’. \nCurious to see the inside of the church? We’ll be offering tours as part of this event. Space is limited\, so please sign up early to reserve your spot and avoid disappointment.
URL:https://hudson.quebec/en/evenements/st-james-open-house-and-tour/
LOCATION:St James Church\, 642\, rue Main\, Hudson\, Québec\, J0P 1H0\, Canada
CATEGORIES:Community events
END:VEVENT
BEGIN:VEVENT
DTSTART;TZID=America/Toronto:20260107T190000
DTEND;TZID=America/Toronto:20260107T220000
DTSTAMP:20260423T121455
CREATED:20260103T172541Z
LAST-MODIFIED:20260103T172541Z
UID:62999-1767812400-1767823200@hudson.quebec
SUMMARY:Hudson Badminton Club Open House
DESCRIPTION:Wednesday\, January 7\, from 7:30 pm to 10 pm. Free admission.\nWestwood Secondary High School\, 69 Côte Saint-Charles\, Hudson \nThe Hudson Badminton Club is hosting an open house on Wednesday\, January 7\, from 7:30 to 10:00 pm. Come learn firsthand why badminton is such a fun sport enjoyed by young and old alike. \nThe club welcomes players from beginner to expert. We play in the “new gym” at Westwood Senior High School\, 69 Côte Saint-Charles\, on Mondays and Wednesdays\, 7:30 pm to 10 pm. \nFor more info\, email: communication@hudsonbadmintonclub.ca or call Denis at 514-233-2134. \n 
URL:https://hudson.quebec/en/evenements/hudson-badminton-club-open-house/
LOCATION:École secondaire Westwood\, 69 Côte Saint-Charles\, Hudson\, Québec\, J0P 1H0\, Canada
CATEGORIES:Community events
END:VEVENT
BEGIN:VEVENT
DTSTART;TZID=America/Toronto:20260115T180000
DTEND;TZID=America/Toronto:20260115T193000
DTSTAMP:20260423T121455
CREATED:20251212T213522Z
LAST-MODIFIED:20251212T213833Z
UID:62856-1768500000-1768505400@hudson.quebec
SUMMARY:Board Game Nights
DESCRIPTION:For all ages! \nWar Memorial Library\, 60 Elm. \nThursdays\, 15 and 29 January 2026\,  from 6 pm to 7:30 pm \nFree for members of the library. Non members: $10 per child\, $20 per adult (cash payment only). Includes a one-year membership to the library. \n  \n 
URL:https://hudson.quebec/en/evenements/board-games-nights/
LOCATION:Bibliothèque War Memorial Library\, 60\, rue Elm\, Hudson Heights\, Qc\, J0P 1J0\, Canada
CATEGORIES:Community events
ATTACH;FMTTYPE=image/png:https://hudson.quebec/wp-content/uploads/2025/12/Board-game-nights_B-_2026.png
END:VEVENT
BEGIN:VEVENT
DTSTART;TZID=America/Toronto:20260117T140000
DTEND;TZID=America/Toronto:20260117T160000
DTSTAMP:20260423T121455
CREATED:20260107T203220Z
LAST-MODIFIED:20260108T001606Z
UID:63061-1768658400-1768665600@hudson.quebec
SUMMARY:Songwriters Spotlight
DESCRIPTION:January 17 | 2 – 4 pm\nHudson Creative Hub\n273 Main Road\, Hudson \nJoin us for a special Songwriters Spotlight event celebrating the depth\, diversity\, and heart of Hudson’s local songwriting community. \nInspired by the classic Nashville-style song circle\, this intimate concert brings ten local songwriters together on stage\, channeling that creative energy into an intimate listening-room setting and giving audiences a rare opportunity to experience original music up close. \nHosted by Briana Doyle\, the event features performances by: \n\nSeiji Gutierrez\nEric Joyal\nWill McGowan\nJason Fry\nSuzie Joseph\nAlan Hunt\nAyoub Drissi\nGerry Legault\nAndy Dahl\n\nExpect an event that’s honest\, generous\, and rooted in community — a celebration of original music created and shared right here in Hudson. \nSongwriters Spotlight is a donation-based concert\, with proceeds supporting the Hudson Creative Hub.
URL:https://hudson.quebec/en/evenements/songwriters-spotlight/
LOCATION:Hudson Creative Hub créatif d’Hudson\, 273 rue Main\, Hudson\, J0P 1H0\, Canada
CATEGORIES:Community events
END:VEVENT
BEGIN:VEVENT
DTSTART;TZID=America/Toronto:20260117T173000
DTEND;TZID=America/Toronto:20260117T233000
DTSTAMP:20260423T121455
CREATED:20251212T211422Z
LAST-MODIFIED:20251212T211422Z
UID:62843-1768671000-1768692600@hudson.quebec
SUMMARY:Dinner Dance - fundraiser for Encore Musical Theatre
DESCRIPTION:Dinner Dance with live band HOT MESS\nSaturday\, January 17\, 2026 from 5:30 pm\nStephen F. Shaar Community Centre\n394 Main Road Hudson \nTickets: 75 $\nencoremthudson@gmail.com\nBar\, Door Prizes\, Raffle
URL:https://hudson.quebec/en/evenements/dinner-dance-fundraiser-for-encore-musical-theatre/
LOCATION:Stephen F. Shaar Community Centre\, 394 Main Road\, Hudson\, QC\, J0P 1H0\, Canada
CATEGORIES:Community events
ATTACH;FMTTYPE=image/png:https://hudson.quebec/wp-content/uploads/2025/12/Dinner-dance_Encore_Jan-2026.png
END:VEVENT
BEGIN:VEVENT
DTSTART;TZID=America/Toronto:20260121T190000
DTEND;TZID=America/Toronto:20260121T210000
DTSTAMP:20260423T121455
CREATED:20260109T190404Z
LAST-MODIFIED:20260109T190404Z
UID:63115-1769022000-1769029200@hudson.quebec
SUMMARY:District 5 Meeting
DESCRIPTION:Councillor Mark Gray invites residents and business owners of DISTRICT 5 – Eastern Heights to join him on: \n\nWednesday\, January 21\, 2026\,\n7 pm to 9 pm\,\nStephen F. Shaar Community Centre (large hall)\, 394 Main Road\, Hudson.\n\nBring your ideas\, suggestions\, and questions. \nYou’re not quite sure of your electoral district ? Consult the electoral district map.
URL:https://hudson.quebec/en/evenements/district-5-meeting-3/
LOCATION:Stephen F. Shaar Community Centre\, 394 Main Road\, Hudson\, QC\, J0P 1H0\, Canada
CATEGORIES:Community events
ATTACH;FMTTYPE=image/jpeg:https://hudson.quebec/wp-content/uploads/2026/01/Mark-Gray_jan-2026.jpg
END:VEVENT
BEGIN:VEVENT
DTSTART;TZID=America/Toronto:20260123T200000
DTEND;TZID=America/Toronto:20260123T230000
DTSTAMP:20260423T121455
CREATED:20260116T203242Z
LAST-MODIFIED:20260116T203242Z
UID:63172-1769198400-1769209200@hudson.quebec
SUMMARY:Black & White Night Party
DESCRIPTION:Black & White Night Party\nThe Town of Hudson & Jeunesse 360 proudly present a night to remember! \nJoin us on Friday\, January 23\, 2026\, from 8 p.m. to 11 p.m. at the Stephen F. Shaar Community Centre\,  394 Main Road\, Hudson for an unforgettable evening with: \n\nLive DJ\nSnacks\nPhoto Booth\nGreat vibes all night long!\n\nFor students in Grades 7\, 8 & 9\n$2 entry\nStudent ID required \nBring your friends and don’t miss it!
URL:https://hudson.quebec/en/evenements/black-white-night-party/
LOCATION:Stephen F. Shaar Community Centre\, 394 Main Road\, Hudson\, QC\, J0P 1H0\, Canada
CATEGORIES:Community events
ATTACH;FMTTYPE=image/png:https://hudson.quebec/wp-content/uploads/2026/01/1.png
END:VEVENT
BEGIN:VEVENT
DTSTART;TZID=America/Toronto:20260124T180000
DTEND;TZID=America/Toronto:20260124T230000
DTSTAMP:20260423T121455
CREATED:20260106T034109Z
LAST-MODIFIED:20260106T034109Z
UID:63010-1769277600-1769295600@hudson.quebec
SUMMARY:Souper Robert Burns
DESCRIPTION:SCOTS\, WHA HAE ! \nRobert Burns was a Scottish poet and lyricist (25 January 1759 – 21 July 1796). He is widely regarded as Scotland’s national poet and is celebrated worldwide. On Saturday\, January 24\, 2026\, the Hudson Legion will host its annual Burns Supper in the Hudson Community Center. Celebrants will gather at the Legion at 5 pm\, and the festivities commence in the Community Center at 6 pm. \nTickets are $50 per person and will be on sale at the Legion Bar (450-458-4882). They must be purchased in advance as there will be no ticket sales at the door. \nSo\, mark your agendas\, call your friends\, shake the creases out of your kilts\, get out your tartans and dancing shoes\, and prepare for a great evening of good food\, yes there will be haggis\, entertainment and dancing as we pay tribute to Scotland’s national poet on his 267th birthday. \nWhat better way to banish the January blues than good company\, great music and a “wee dram.”
URL:https://hudson.quebec/en/evenements/souper-robert-burns/
LOCATION:Stephen F. Shaar Community Centre\, 394 Main Road\, Hudson\, QC\, J0P 1H0\, Canada
CATEGORIES:Community events
ATTACH;FMTTYPE=image/jpeg:https://hudson.quebec/wp-content/uploads/2026/01/Burns-Supper_2026_EN.jpeg
ORGANIZER;CN="Hudson Legion Branch #115":MAILTO:hudsonlegion@bellnet.ca
END:VEVENT
BEGIN:VEVENT
DTSTART;TZID=America/Toronto:20260127T190000
DTEND;TZID=America/Toronto:20260127T213000
DTSTAMP:20260423T121455
CREATED:20260123T174926Z
LAST-MODIFIED:20260123T174926Z
UID:63213-1769540400-1769549400@hudson.quebec
SUMMARY:January 2026 Town Council Meeting
DESCRIPTION:We invite all residents to attend the monthly council meeting on Tuesday\, January 27 at 7 pm at the Stephen F. Shaar Community Centre\, 394 Main Road. \n You can also participate on Zoom by clicking the link below. \nIf you can’t attend live\, you can watch the meeting on demand. The video recording will be available on the Thursday afternoon following the meeting. \n CLICK HERE to access the meeting agenda\, Zoom link\, and the procedure for asking questions of Council.
URL:https://hudson.quebec/en/evenements/january-2026-town-council-meeting/
LOCATION:Stephen F. Shaar Community Centre\, 394 Main Road\, Hudson\, QC\, J0P 1H0\, Canada
CATEGORIES:Community events
ATTACH;FMTTYPE=image/png:https://hudson.quebec/wp-content/uploads/2026/01/January-2026_ENG.png
END:VEVENT
BEGIN:VEVENT
DTSTART;TZID=America/Toronto:20260128T100000
DTEND;TZID=America/Toronto:20260128T120000
DTSTAMP:20260423T121455
CREATED:20260123T191357Z
LAST-MODIFIED:20260127T180858Z
UID:63243-1769594400-1769601600@hudson.quebec
SUMMARY:Seniors Movie Mornings
DESCRIPTION:Beginning in January 2026\, we invite you to our free Seniors Movie Mornings\, held on the fourth Wednesday of each month from 10:00 a.m. to 12:00 p.m. \nOur first screening takes place on January 28th at the Stephen F. Shaar Community Centre\, 394 Main Road\, Hudson. \nCome enjoy a cozy morning at the movies\, connect with others\, and share a few laughs. \nWe’re kicking things off with Grumpy Old Men\, a charming comedy about friendship\, rivalry\, and new beginnings.
URL:https://hudson.quebec/en/evenements/seniors-movie-mornings/
LOCATION:Stephen F. Shaar Community Centre\, 394 Main Road\, Hudson\, QC\, J0P 1H0\, Canada
CATEGORIES:Community events
ATTACH;FMTTYPE=image/png:https://hudson.quebec/wp-content/uploads/2026/01/Jan-movie_ENGL.png
END:VEVENT
BEGIN:VEVENT
DTSTART;TZID=America/Toronto:20260128T190000
DTEND;TZID=America/Toronto:20260128T210000
DTSTAMP:20260423T121455
CREATED:20260112T214749Z
LAST-MODIFIED:20260112T214749Z
UID:63127-1769626800-1769634000@hudson.quebec
SUMMARY:District 4 - Fairhaven meeting
DESCRIPTION:Councillor Reid Thompson invites residents and business owners of DISTRICT 4 – Fairhaven to join him on: \n\nWednesday\, January 28\, 2026\,\n7 pm to 9 pm\,\nStephen F. Shaar Community Centre (large hall)\, 394 Main Road\, Hudson.\n\nBring your ideas\, suggestions\, and questions. \nYou’re not quite sure of your electoral district ? Consult the electoral disctricts map.
URL:https://hudson.quebec/en/evenements/district-4-fairhaven-meeting/
LOCATION:Stephen F. Shaar Community Centre\, 394 Main Road\, Hudson\, QC\, J0P 1H0\, Canada
CATEGORIES:Community events
ATTACH;FMTTYPE=image/jpeg:https://hudson.quebec/wp-content/uploads/2026/01/Reid-Thompson_jan-2026.jpg
END:VEVENT
BEGIN:VEVENT
DTSTART;TZID=America/Toronto:20260129T180000
DTEND;TZID=America/Toronto:20260129T193000
DTSTAMP:20260423T121455
CREATED:20251212T214357Z
LAST-MODIFIED:20251212T214357Z
UID:62864-1769709600-1769715000@hudson.quebec
SUMMARY:Board Game Nights
DESCRIPTION:For all ages! \nWar Memorial Library\, 60 Elm. \nThursdays\, 15 and 29 January 2026\,  from 6 pm to 7:30 pm \nFree for members of the library. Non members: $10 per child\, $20 per adult (cash payment only). Includes a one-year membership to the library. \n  \n 
URL:https://hudson.quebec/en/evenements/board-game-nights/
LOCATION:Bibliothèque War Memorial Library\, 60\, rue Elm\, Hudson Heights\, Qc\, J0P 1J0\, Canada
CATEGORIES:Community events
ATTACH;FMTTYPE=image/png:https://hudson.quebec/wp-content/uploads/2025/12/Board-game-nights_B-_2026.png
END:VEVENT
BEGIN:VEVENT
DTSTART;TZID=America/Toronto:20260131T100000
DTEND;TZID=America/Toronto:20260131T120000
DTSTAMP:20260423T121455
CREATED:20260123T182329Z
LAST-MODIFIED:20260123T182329Z
UID:63224-1769853600-1769860800@hudson.quebec
SUMMARY:Coffee with Mayor Hutchison
DESCRIPTION:The January 2026 edition of Coffee with Mayor Hutchison will be held on Saturday\, January 31\, from 10 am to noon at Halcro Cottage\, located at 539 Main Road. Residents are invited to discuss issues of concern in a relaxed and informal setting.
URL:https://hudson.quebec/en/evenements/coffee-with-mayor-hutchison-15/
LOCATION:Halcro Cottage\, 539 Main Road\, Hudson\, Qc\, J0P 1H0\, Canada
CATEGORIES:Community events
ATTACH;FMTTYPE=image/png:https://hudson.quebec/wp-content/uploads/2026/01/Coffee-with-the-Mayor_January-2026_english@2x.png
END:VEVENT
END:VCALENDAR