BEGIN:VCALENDAR
VERSION:2.0
PRODID:-//Town of Hudson - ECPv6.15.20//NONSGML v1.0//EN
CALSCALE:GREGORIAN
METHOD:PUBLISH
X-ORIGINAL-URL:https://hudson.quebec/en/
X-WR-CALDESC:Events for Town of Hudson
REFRESH-INTERVAL;VALUE=DURATION:PT1H
X-Robots-Tag:noindex
X-PUBLISHED-TTL:PT1H
BEGIN:VTIMEZONE
TZID:America/Toronto
BEGIN:DAYLIGHT
TZOFFSETFROM:-0500
TZOFFSETTO:-0400
TZNAME:EDT
DTSTART:20250309T070000
END:DAYLIGHT
BEGIN:STANDARD
TZOFFSETFROM:-0400
TZOFFSETTO:-0500
TZNAME:EST
DTSTART:20251102T060000
END:STANDARD
BEGIN:DAYLIGHT
TZOFFSETFROM:-0500
TZOFFSETTO:-0400
TZNAME:EDT
DTSTART:20260308T070000
END:DAYLIGHT
BEGIN:STANDARD
TZOFFSETFROM:-0400
TZOFFSETTO:-0500
TZNAME:EST
DTSTART:20261101T060000
END:STANDARD
BEGIN:DAYLIGHT
TZOFFSETFROM:-0500
TZOFFSETTO:-0400
TZNAME:EDT
DTSTART:20270314T070000
END:DAYLIGHT
BEGIN:STANDARD
TZOFFSETFROM:-0400
TZOFFSETTO:-0500
TZNAME:EST
DTSTART:20271107T060000
END:STANDARD
END:VTIMEZONE
BEGIN:VEVENT
DTSTART;TZID=America/Toronto:20260404T093000
DTEND;TZID=America/Toronto:20260404T130000
DTSTAMP:20260421T200352
CREATED:20260320T171458Z
LAST-MODIFIED:20260331T203428Z
UID:63855-1775295000-1775307600@hudson.quebec
SUMMARY:Hudson Easter Party — Saturday April 4th
DESCRIPTION:The egg hunt and beading workshops are full. You are welcome to attend the Easter craft workshop from 10 am to 1 pm and to enjoy the carousel rides. \nThis event is reserved for Hudson residents. \nHudson Easter Party — Saturday April 4th \n🌸🐣 It’s time to celebrate! Join us for a fun family event! 🐣🌸 \nA morning full of laughter\, activities\, and surprises for the whole family! 🎉\n✨ Schedule:\n🕤 9:30 AM – Event begins \n🐴 10:00 AM – 12:00 PM – Pony carousel rides \n🥚 FULL 10:00 AM – 12:00 PM – Egg hunt \n🌲 10:00 AM – 1:00 PM – Easter craft workshop with Hudson Forest Play and Embrume \n🧵 FULL 9:30 AM – 11:00 AM – Beading workshop introduction with Yanonhchia \n🧵 FULL 11:30 AM – 1PM – Second beading workshop introduction with Yanonhchia \n🍫 12:45 PM – Grand chocolate draw 🎁 \n🎉 1:00 PM – End of the event \n💛 A wonderful opportunity to spend time with family\, have fun\, and create great memories!\n⚠️ Some activities require registration and space is limited. \nWe look forward to seeing you there! 🐰🌷 \n📍Centre communautaire Stephen F. Shaar\, 394\, rue Main\, Hudson
URL:https://hudson.quebec/en/evenements/hudson-easter-party-saturday-april-4th/
CATEGORIES:Community events
ATTACH;FMTTYPE=image/jpeg:https://hudson.quebec/wp-content/uploads/2026/03/ToH-Easter-1080x1080-20mar26.jpg
END:VEVENT
BEGIN:VEVENT
DTSTART;TZID=America/Toronto:20260404T100000
DTEND;TZID=America/Toronto:20260411T140000
DTSTAMP:20260421T200352
CREATED:20260320T160206Z
LAST-MODIFIED:20260320T200337Z
UID:63839-1775296800-1775916000@hudson.quebec
SUMMARY:War Memorial Library – Book Sale
DESCRIPTION:The April Book Sale will begin on Saturday\, April 4th\, and continue April 5th to 6th and 9th to 11th.  \nOpening hours: \nSunday: 1 pm – 3 pm (September to June)\nMonday: 2:30 pm – 5 pm\nThursday: 6 pm – 8 pm\nFriday: 2:30 pm – 5 pm\nSaturday: 10 am – 2 pm \n60 Elm\, Hudson Heights QC J0P 1J0\n450-458-4814
URL:https://hudson.quebec/en/evenements/bibliotheque-war-memorial-library-book-sale/
CATEGORIES:Community events
ATTACH;FMTTYPE=image/jpeg:https://hudson.quebec/wp-content/uploads/2026/03/book-sale_Apr-2026_B_Town.jpg
END:VEVENT
END:VCALENDAR