BEGIN:VCALENDAR
VERSION:2.0
PRODID:-//Town of Hudson - ECPv6.15.20//NONSGML v1.0//EN
CALSCALE:GREGORIAN
METHOD:PUBLISH
X-WR-CALNAME:Town of Hudson
X-ORIGINAL-URL:https://hudson.quebec/en/
X-WR-CALDESC:Events for Town of Hudson
REFRESH-INTERVAL;VALUE=DURATION:PT1H
X-Robots-Tag:noindex
X-PUBLISHED-TTL:PT1H
BEGIN:VTIMEZONE
TZID:America/Toronto
BEGIN:DAYLIGHT
TZOFFSETFROM:-0500
TZOFFSETTO:-0400
TZNAME:EDT
DTSTART:20250309T070000
END:DAYLIGHT
BEGIN:STANDARD
TZOFFSETFROM:-0400
TZOFFSETTO:-0500
TZNAME:EST
DTSTART:20251102T060000
END:STANDARD
BEGIN:DAYLIGHT
TZOFFSETFROM:-0500
TZOFFSETTO:-0400
TZNAME:EDT
DTSTART:20260308T070000
END:DAYLIGHT
BEGIN:STANDARD
TZOFFSETFROM:-0400
TZOFFSETTO:-0500
TZNAME:EST
DTSTART:20261101T060000
END:STANDARD
BEGIN:DAYLIGHT
TZOFFSETFROM:-0500
TZOFFSETTO:-0400
TZNAME:EDT
DTSTART:20270314T070000
END:DAYLIGHT
BEGIN:STANDARD
TZOFFSETFROM:-0400
TZOFFSETTO:-0500
TZNAME:EST
DTSTART:20271107T060000
END:STANDARD
END:VTIMEZONE
BEGIN:VEVENT
DTSTART;TZID=America/Toronto:20260403T110000
DTEND;TZID=America/Toronto:20260403T160000
DTSTAMP:20260421T182020
CREATED:20260325T210656Z
LAST-MODIFIED:20260325T210935Z
UID:63992-1775214000-1775232000@hudson.quebec
SUMMARY:MOZAÏQUE - Workshops to launch the farm season!
DESCRIPTION:MOZAÏQUE – Workshops to launch the farm season! \nTo usher in the 2026 farm season\, please join us on April 3rd at the Community Centre for some crafting\, seeding\, eating\, and socializing! \nWORKSHOPS OFFERED: \nMosaic workshop with Monica Brinkman\n– $25 for adults\n– $10 for kids (must attend with an adult)\nA repeat of last year’s super fun workshop\, mosaic your own planter and take it home with you!\nWe suggest around two hours to finish your project. \nNeedle Felting workshop with Mary Vuorela\n– $15\nMake a felt project and take it home with you!\nNeedle Felting Workshop with Mary Vuorela $15\nHour long sessions from 10:00 am to 3:00 pm\nWe suggest about one hour to complete your project. \nSeed workshop with Barbara Larder\n– By donation\nCome join us for a fun seed workshop! Learn what seeds look like\, play a game and help the Heartbeet Farmers plant their Spring seeds. All ages are welcome\, and everyone goes home with a potted seed!\nRepeated throughout event! \nSeedling demonstrations and advice from the Heartbeet Farm Team\n– Free! \nREFRESHMENTS\nLunch\, snacks\, tea\, coffee (and more) available for purchase. \nHOW TO PARTICIPATE:\n– Workshops are repeated simultaneously throughout the event.\n– Choose one\, or do all of the workshops… and have lunch too! Customize the event in a way that fits your schedule and your interests.\n– BUY TICKETS HERE: https://www.zeffy.com/…/mosaique-workshops-and…\n(Please note you can adjust the processing fee all the way to $0 at checkout if you would like to.) \nA fun activity for all ages – make an outing of it with friends and family!
URL:https://hudson.quebec/en/evenements/mozaique-workshops-to-launch-the-farm-season/
LOCATION:Stephen F. Shaar Community Centre\, 394 Main Road\, Hudson\, QC\, J0P 1H0\, Canada
CATEGORIES:Community events
ATTACH;FMTTYPE=image/png:https://hudson.quebec/wp-content/uploads/2026/03/Mosaique-Ateliers-Workshops.png
END:VEVENT
END:VCALENDAR