BEGIN:VCALENDAR
VERSION:2.0
PRODID:-//Town of Hudson - ECPv6.15.20//NONSGML v1.0//EN
CALSCALE:GREGORIAN
METHOD:PUBLISH
X-ORIGINAL-URL:https://hudson.quebec/en/
X-WR-CALDESC:Events for Town of Hudson
REFRESH-INTERVAL;VALUE=DURATION:PT1H
X-Robots-Tag:noindex
X-PUBLISHED-TTL:PT1H
BEGIN:VTIMEZONE
TZID:America/Toronto
BEGIN:DAYLIGHT
TZOFFSETFROM:-0500
TZOFFSETTO:-0400
TZNAME:EDT
DTSTART:20250309T070000
END:DAYLIGHT
BEGIN:STANDARD
TZOFFSETFROM:-0400
TZOFFSETTO:-0500
TZNAME:EST
DTSTART:20251102T060000
END:STANDARD
BEGIN:DAYLIGHT
TZOFFSETFROM:-0500
TZOFFSETTO:-0400
TZNAME:EDT
DTSTART:20260308T070000
END:DAYLIGHT
BEGIN:STANDARD
TZOFFSETFROM:-0400
TZOFFSETTO:-0500
TZNAME:EST
DTSTART:20261101T060000
END:STANDARD
BEGIN:DAYLIGHT
TZOFFSETFROM:-0500
TZOFFSETTO:-0400
TZNAME:EDT
DTSTART:20270314T070000
END:DAYLIGHT
BEGIN:STANDARD
TZOFFSETFROM:-0400
TZOFFSETTO:-0500
TZNAME:EST
DTSTART:20271107T060000
END:STANDARD
END:VTIMEZONE
BEGIN:VEVENT
DTSTART;TZID=America/Toronto:20260326T180000
DTEND;TZID=America/Toronto:20260326T193000
DTSTAMP:20260421T200521
CREATED:20260225T142809Z
LAST-MODIFIED:20260325T211341Z
UID:63667-1774548000-1774553400@hudson.quebec
SUMMARY:Board Game Nights at the War Memorial Library
DESCRIPTION:For all ages!  War Memorial Library\, 60 Elm.  Thursdays\, March 12 and 26\, 2026\, from 6 pm to 7:30 pm.  Free for members of the library.  Non-members:  $10 per child\, $20 per adult (cash payment only).  Includes a one-year membership to the library.  Game play basics provided. \n60 rue Elm\, Hudson Heights QC J0P 1J0\n450-458-4814
URL:https://hudson.quebec/en/evenements/board-game-nights-at-the-war-memorial-library-2/
LOCATION:Bibliothèque War Memorial Library\, 60\, rue Elm\, Hudson Heights\, Qc\, J0P 1J0\, Canada
CATEGORIES:Community events
ATTACH;FMTTYPE=image/png:https://hudson.quebec/wp-content/uploads/2026/02/board-games_B_March-2026.png
END:VEVENT
END:VCALENDAR