BEGIN:VCALENDAR
VERSION:2.0
PRODID:-//Town of Hudson - ECPv6.15.20//NONSGML v1.0//EN
CALSCALE:GREGORIAN
METHOD:PUBLISH
X-WR-CALNAME:Town of Hudson
X-ORIGINAL-URL:https://hudson.quebec/en/
X-WR-CALDESC:Events for Town of Hudson
REFRESH-INTERVAL;VALUE=DURATION:PT1H
X-Robots-Tag:noindex
X-PUBLISHED-TTL:PT1H
BEGIN:VTIMEZONE
TZID:America/Toronto
BEGIN:DAYLIGHT
TZOFFSETFROM:-0500
TZOFFSETTO:-0400
TZNAME:EDT
DTSTART:20250309T070000
END:DAYLIGHT
BEGIN:STANDARD
TZOFFSETFROM:-0400
TZOFFSETTO:-0500
TZNAME:EST
DTSTART:20251102T060000
END:STANDARD
BEGIN:DAYLIGHT
TZOFFSETFROM:-0500
TZOFFSETTO:-0400
TZNAME:EDT
DTSTART:20260308T070000
END:DAYLIGHT
BEGIN:STANDARD
TZOFFSETFROM:-0400
TZOFFSETTO:-0500
TZNAME:EST
DTSTART:20261101T060000
END:STANDARD
BEGIN:DAYLIGHT
TZOFFSETFROM:-0500
TZOFFSETTO:-0400
TZNAME:EDT
DTSTART:20270314T070000
END:DAYLIGHT
BEGIN:STANDARD
TZOFFSETFROM:-0400
TZOFFSETTO:-0500
TZNAME:EST
DTSTART:20271107T060000
END:STANDARD
END:VTIMEZONE
BEGIN:VEVENT
DTSTART;TZID=America/Toronto:20260321T130000
DTEND;TZID=America/Toronto:20260321T160000
DTSTAMP:20260421T212139
CREATED:20260303T194703Z
LAST-MODIFIED:20260319T023338Z
UID:63723-1774098000-1774108800@hudson.quebec
SUMMARY:2026 St Patrick's Parade
DESCRIPTION:SATURDAY MARCH 21\, 2026. A family-friendly tradition\, the St Patrick’s Parade is back in full force this year. The parade begins at 1 pm on Saturday\, March 21st\, at Westwood Senior High School\, goes north along Côte St Charles\, turns east on Main Road and continues along Main Road\, ending at the Community Centre. Street closures and restricted parking will be in effect. \nDon’t forget the Family After-Party from 1:30 pm to 4:30 pm at the Community Centre\, 394 Main Road \nIf you are attending the parade\, please plan accordingly\, as vehicles will not have access to Main Road until the parade ends. If you plan to have visitors\, please ensure they are advised. \n\nEmergency services will have access to the street at all times.\nAccess to the MediCentre will be via the following route: Lakeview\, then northbound on Cedar\, and then eastbound on Main Road.\n\n \nSTREET CLOSURES – SATURDAY\, MARCH 21st \n\nCôte St-Charles between Ridge and Main Road\, from 10 am to 3 pm\,\nMain Road\, between Côte St-Charles and Beach\, from 12:30 pm to 4 pm.\n\nCLOSURE OF THE COMMUNITY CENTRE PARKING LOT  \n\nFrom Friday evening\, March 20th\, to 4 pm\, March 21st.\n\nPARKING RESTRICTIONS 21 MARCH 2026 \n\nParking is severely restricted between Main Road and Ridge. No parking is permitted along the detour route.\n\nFree shuttle serviceDeparting from Biggs\, 3100 Harwood (abundant free parking) and from the Whitlock Golf Course\, 128 Côte St Charles (limited parking which fills up quickly). \n  \n 
URL:https://hudson.quebec/en/evenements/2026-st-patricks-parade/
CATEGORIES:Community events
ATTACH;FMTTYPE=image/jpeg:https://hudson.quebec/wp-content/uploads/2025/02/St-Patricks-2025.jpg
END:VEVENT
BEGIN:VEVENT
DTSTART;TZID=America/Toronto:20260321T133000
DTEND;TZID=America/Toronto:20260321T163000
DTSTAMP:20260421T212139
CREATED:20260303T192617Z
LAST-MODIFIED:20260303T192617Z
UID:63718-1774099800-1774110600@hudson.quebec
SUMMARY:Family after-party: 2026 edition
DESCRIPTION:Free. 1:30 pm to 4:30 pm\, Saturday\, March 21\, 2026 \nAfter the parade\, join us at the Community Centre\, 394 Main Road for the big Family After-Party! \n\nHave a free professional photograph taken with the Queen\,\nQuench your thirst with a hot or cold beverage\,\nGrab a treat and\,\nKeep the St Patrick’s spirit going with\, of course\, Irish music and dancing !\n\n  \n 
URL:https://hudson.quebec/en/evenements/family-after-party-2026-edition/
LOCATION:Stephen F. Shaar Community Centre\, 394 Main Road\, Hudson\, QC\, J0P 1H0\, Canada
CATEGORIES:Community events
ATTACH;FMTTYPE=image/png:https://hudson.quebec/wp-content/uploads/2026/03/Anglais.png
ORGANIZER;CN="Ville d'Hudson":MAILTO:info@ville.hudson.qc.ca
END:VEVENT
END:VCALENDAR