BEGIN:VCALENDAR
VERSION:2.0
PRODID:-//Town of Hudson - ECPv6.15.20//NONSGML v1.0//EN
CALSCALE:GREGORIAN
METHOD:PUBLISH
X-WR-CALNAME:Town of Hudson
X-ORIGINAL-URL:https://hudson.quebec/en/
X-WR-CALDESC:Events for Town of Hudson
REFRESH-INTERVAL;VALUE=DURATION:PT1H
X-Robots-Tag:noindex
X-PUBLISHED-TTL:PT1H
BEGIN:VTIMEZONE
TZID:America/Toronto
BEGIN:DAYLIGHT
TZOFFSETFROM:-0500
TZOFFSETTO:-0400
TZNAME:EDT
DTSTART:20250309T070000
END:DAYLIGHT
BEGIN:STANDARD
TZOFFSETFROM:-0400
TZOFFSETTO:-0500
TZNAME:EST
DTSTART:20251102T060000
END:STANDARD
BEGIN:DAYLIGHT
TZOFFSETFROM:-0500
TZOFFSETTO:-0400
TZNAME:EDT
DTSTART:20260308T070000
END:DAYLIGHT
BEGIN:STANDARD
TZOFFSETFROM:-0400
TZOFFSETTO:-0500
TZNAME:EST
DTSTART:20261101T060000
END:STANDARD
BEGIN:DAYLIGHT
TZOFFSETFROM:-0500
TZOFFSETTO:-0400
TZNAME:EDT
DTSTART:20270314T070000
END:DAYLIGHT
BEGIN:STANDARD
TZOFFSETFROM:-0400
TZOFFSETTO:-0500
TZNAME:EST
DTSTART:20271107T060000
END:STANDARD
END:VTIMEZONE
BEGIN:VEVENT
DTSTART;TZID=America/Toronto:20260305T193000
DTEND;TZID=America/Toronto:20260315T160000
DTSTAMP:20260421T195615
CREATED:20260219T200808Z
LAST-MODIFIED:20260219T200808Z
UID:63598-1772739000-1773590400@hudson.quebec
SUMMARY:Head Over Heels at Hudson Village Theatre
DESCRIPTION:A hilarious\, exuberant celebration of love\, The musical comedy Head Over Heels follows the escapades of a royal family on an outrageous journey to save their beloved kingdom from extinction—only to discover the key to their realm’s survival lies within each of their own hearts. \nMarch 5-15\, 2026 (matinée and evening performances). \nHudson Village Theatre\, 28 rue Wharf\, Hudson \nTickets: 39$ \nBox office: 450-458-5361
URL:https://hudson.quebec/en/evenements/head-over-heels-at-hudson-village-theatre/
LOCATION:Hudson Village Theatre\, 28 Wharf Road\, Hudson\, QC\, J0P 1H0\, Canada
CATEGORIES:Community events
ATTACH;FMTTYPE=image/jpeg:https://hudson.quebec/wp-content/uploads/2026/02/HOH-FI-1200x628px.jpg
END:VEVENT
BEGIN:VEVENT
DTSTART;TZID=America/Toronto:20260308T100000
DTEND;TZID=America/Toronto:20260308T160000
DTSTAMP:20260421T195615
CREATED:20260213T193309Z
LAST-MODIFIED:20260213T193309Z
UID:63455-1772964000-1772985600@hudson.quebec
SUMMARY:Marché Mystique
DESCRIPTION:Mystic Market\nStep into a calm\, welcoming space to explore tools for reflection\, wellness\, and inner balance at our Mystic Market\, a one-day gathering of local practitioners and artisans. \nBrowse thoughtfully curated vendors offering crystals\, tarot and oracle readings\, sound healing\, naturopathy\, numerology\, candles\, and other handcrafted items designed to support mindfulness\, self-discovery\, and personal well-being. Whether you’re deeply curious or simply open to new ways of tuning in\, this market invites you to explore at your own pace. \nThe Mystic Market is about connection\, curiosity\, and care — a gentle opportunity to pause\, ask meaningful questions\, and discover practices that resonate with you. \nSunday\, March 8\n10 am – 4 pm \nHudson Creative Hub\n273 Main Road
URL:https://hudson.quebec/en/evenements/marche-mystique/
LOCATION:Hudson Creative Hub créatif d’Hudson\, 273 rue Main\, Hudson\, J0P 1H0\, Canada
CATEGORIES:Community events
ATTACH;FMTTYPE=image/jpeg:https://hudson.quebec/wp-content/uploads/2026/02/Mystic-market_march_2026.jpg
END:VEVENT
END:VCALENDAR