BEGIN:VCALENDAR
VERSION:2.0
PRODID:-//Town of Hudson - ECPv6.15.20//NONSGML v1.0//EN
CALSCALE:GREGORIAN
METHOD:PUBLISH
X-ORIGINAL-URL:https://hudson.quebec/en/
X-WR-CALDESC:Events for Town of Hudson
REFRESH-INTERVAL;VALUE=DURATION:PT1H
X-Robots-Tag:noindex
X-PUBLISHED-TTL:PT1H
BEGIN:VTIMEZONE
TZID:America/Toronto
BEGIN:DAYLIGHT
TZOFFSETFROM:-0500
TZOFFSETTO:-0400
TZNAME:EDT
DTSTART:20250309T070000
END:DAYLIGHT
BEGIN:STANDARD
TZOFFSETFROM:-0400
TZOFFSETTO:-0500
TZNAME:EST
DTSTART:20251102T060000
END:STANDARD
BEGIN:DAYLIGHT
TZOFFSETFROM:-0500
TZOFFSETTO:-0400
TZNAME:EDT
DTSTART:20260308T070000
END:DAYLIGHT
BEGIN:STANDARD
TZOFFSETFROM:-0400
TZOFFSETTO:-0500
TZNAME:EST
DTSTART:20261101T060000
END:STANDARD
BEGIN:DAYLIGHT
TZOFFSETFROM:-0500
TZOFFSETTO:-0400
TZNAME:EDT
DTSTART:20270314T070000
END:DAYLIGHT
BEGIN:STANDARD
TZOFFSETFROM:-0400
TZOFFSETTO:-0500
TZNAME:EST
DTSTART:20271107T060000
END:STANDARD
END:VTIMEZONE
BEGIN:VEVENT
DTSTART;TZID=America/Toronto:20260224T190000
DTEND;TZID=America/Toronto:20260224T220000
DTSTAMP:20260421T200454
CREATED:20260219T215043Z
LAST-MODIFIED:20260219T215043Z
UID:63517-1771959600-1771970400@hudson.quebec
SUMMARY:February 2026 Town Council Meeting
DESCRIPTION:We invite all residents to attend the monthly council meeting on Tuesday\, February 24 at 7 pm at the Stephen F. Shaar Community Centre\, 394 Main Road. \nYou can also participate on Zoom by clicking the link below. \nIf you can’t attend live\, you can watch the meeting on demand. The video recording will be available on the Thursday afternoon following the meeting. \nCLICK HERE to access the meeting agenda\, Zoom link\, and the procedure for asking questions of Council.
URL:https://hudson.quebec/en/evenements/february-2026-town-council-meeting/
LOCATION:Stephen F. Shaar Community Centre\, 394 Main Road\, Hudson\, QC\, J0P 1H0\, Canada
CATEGORIES:Community events
ATTACH;FMTTYPE=image/png:https://hudson.quebec/wp-content/uploads/2026/02/February-2026_Eng.png
END:VEVENT
END:VCALENDAR